BEGIN:VCALENDAR
VERSION:2.0
PRODID:-//Derby and Sandiacre Canal Trust - ECPv6.15.20//NONSGML v1.0//EN
CALSCALE:GREGORIAN
METHOD:PUBLISH
X-WR-CALNAME:Derby and Sandiacre Canal Trust
X-ORIGINAL-URL:https://derbycanal.org.uk
X-WR-CALDESC:Events for Derby and Sandiacre Canal Trust
REFRESH-INTERVAL;VALUE=DURATION:PT1H
X-Robots-Tag:noindex
X-PUBLISHED-TTL:PT1H
BEGIN:VTIMEZONE
TZID:Europe/London
BEGIN:DAYLIGHT
TZOFFSETFROM:+0000
TZOFFSETTO:+0100
TZNAME:BST
DTSTART:20200329T010000
END:DAYLIGHT
BEGIN:STANDARD
TZOFFSETFROM:+0100
TZOFFSETTO:+0000
TZNAME:GMT
DTSTART:20201025T010000
END:STANDARD
BEGIN:DAYLIGHT
TZOFFSETFROM:+0000
TZOFFSETTO:+0100
TZNAME:BST
DTSTART:20210328T010000
END:DAYLIGHT
BEGIN:STANDARD
TZOFFSETFROM:+0100
TZOFFSETTO:+0000
TZNAME:GMT
DTSTART:20211031T010000
END:STANDARD
BEGIN:DAYLIGHT
TZOFFSETFROM:+0000
TZOFFSETTO:+0100
TZNAME:BST
DTSTART:20220327T010000
END:DAYLIGHT
BEGIN:STANDARD
TZOFFSETFROM:+0100
TZOFFSETTO:+0000
TZNAME:GMT
DTSTART:20221030T010000
END:STANDARD
END:VTIMEZONE
BEGIN:VEVENT
DTSTART;TZID=Europe/London:20211026T190000
DTEND;TZID=Europe/London:20211026T210000
DTSTAMP:20260422T230834
CREATED:20210206T205819Z
LAST-MODIFIED:20210824T200317Z
UID:7720-1635274800-1635282000@derbycanal.org.uk
SUMMARY:DSCT - Virtual Social Meeting - Talk
DESCRIPTION:(Virtual) Social Meeting – Talk\nNormally the 4th Tuesday of each month\, the Derby & Sandiacre Canal Trust invites a guest speaker to present to the Trust on a topic of interest. From experience they are usually very engaging and interesting (at least for those that enjoy Canals\, History\, Engineering\, Nature\, and all things in between). Given recent Covid-19 restrictions; we have had to hold these virtually over Zoom\, but are now re-introducing meetings in person.\n\nNOTE: From October 2021; it will be the 1st Wednesday of every month! \nMeetings are held via Zoom & are restarting in person at the Royal Oak in Ockbrook.\n\nDetails for joining Zoom are provided to members via email – contact membership@derbycanal.org.uk if you are not getting emails currently.\nWhat to join in? – Become a member today!\nPlease find below the current list of speakers and topics for our 2021 calendar\n(we hope to get more finalised at least a few weeks before each meeting!)\nJan 26th – Steve Bacon – “Wilts and Berks Canal Trust”\nFeb 23rd – Chris Madge – “Current progress of the Derby & Sandiacre Canal”\nMar 30th – Peter Daniel – “The Bude Canal Society”\nApr 27th – Simon Knapman – “A journey along London’s lost route to the sea”\nMay 25th – “A talk on the Hereford and Gloucester Restoration”\nJune 22nd – “The Montgomery Canal Restoration”\nJuly 27th – A Guided walk along our own canal between Breaston and Draycott (including a visit to the Draycott cottages)\nAugust – No meeting\nSeptember – No meeting\nOct 6th – TBA\nNov 3rd – TBA\nDec – No meeting
URL:https://derbycanal.org.uk/event/dsct-virtual-social-meeting-talk-2021-10-26/
LOCATION:The Royal Oak\, Ockbrook ( & Zoom)\, 55 Green Lane\, Ockbrook\, Derby\, Derbyshire\, DE72 3SE\, United Kingdom
CATEGORIES:Trust Social
END:VEVENT
END:VCALENDAR