BEGIN:VCALENDAR
VERSION:2.0
PRODID:-//Derby and Sandiacre Canal Trust - ECPv6.15.20//NONSGML v1.0//EN
CALSCALE:GREGORIAN
METHOD:PUBLISH
X-WR-CALNAME:Derby and Sandiacre Canal Trust
X-ORIGINAL-URL:https://derbycanal.org.uk
X-WR-CALDESC:Events for Derby and Sandiacre Canal Trust
REFRESH-INTERVAL;VALUE=DURATION:PT1H
X-Robots-Tag:noindex
X-PUBLISHED-TTL:PT1H
BEGIN:VTIMEZONE
TZID:Europe/London
BEGIN:DAYLIGHT
TZOFFSETFROM:+0000
TZOFFSETTO:+0100
TZNAME:BST
DTSTART:20170326T010000
END:DAYLIGHT
BEGIN:STANDARD
TZOFFSETFROM:+0100
TZOFFSETTO:+0000
TZNAME:GMT
DTSTART:20171029T010000
END:STANDARD
BEGIN:DAYLIGHT
TZOFFSETFROM:+0000
TZOFFSETTO:+0100
TZNAME:BST
DTSTART:20180325T010000
END:DAYLIGHT
BEGIN:STANDARD
TZOFFSETFROM:+0100
TZOFFSETTO:+0000
TZNAME:GMT
DTSTART:20181028T010000
END:STANDARD
BEGIN:DAYLIGHT
TZOFFSETFROM:+0000
TZOFFSETTO:+0100
TZNAME:BST
DTSTART:20190331T010000
END:DAYLIGHT
BEGIN:STANDARD
TZOFFSETFROM:+0100
TZOFFSETTO:+0000
TZNAME:GMT
DTSTART:20191027T010000
END:STANDARD
END:VTIMEZONE
BEGIN:VEVENT
DTSTART;TZID=Europe/London:20181118T093000
DTEND;TZID=Europe/London:20181118T130000
DTSTAMP:20260423T121559
CREATED:20170819T155941Z
LAST-MODIFIED:20181029T163025Z
UID:4923-1542533400-1542546000@derbycanal.org.uk
SUMMARY:Working Party - Spondon
DESCRIPTION:Spondon – Canal Restoration \nWork Description: \nCome and lend a hand with our restoration of Canal Line at Spondon. \nPlease note – there will be a 2 minute silence at 11am for Remembrance Sunday. \nTo Bring: A Smile\,refreshments\, stout shoes\, other useful tools. \nHS&E requirements: \nSturdy boots and gloves are recommended \nGetting there: \nMap coordinates:-   TBD – expected to meet near the Canal turn pub.
URL:https://derbycanal.org.uk/event/working-party-spondon-20181118/
CATEGORIES:Working Party
END:VEVENT
BEGIN:VEVENT
DTSTART;TZID=Europe/London:20181114T193000
DTEND;TZID=Europe/London:20181114T213000
DTSTAMP:20260423T121559
CREATED:20181029T171255Z
LAST-MODIFIED:20181029T173000Z
UID:4968-1542223800-1542231000@derbycanal.org.uk
SUMMARY:Sandiacre Public Event - D&SC Trust & Leedale - Lock Dig-Out
DESCRIPTION:Derby and Sandiacre Canal Trust’s long term aim is to restore the canal from Lock Lane\, Sandiacre to Swarkestone via Derby. \nWe have now acquired the stretch of canal path from Lock Lane to Bostocks Lane and the first stage to restoration will be to empty the lock chamber by Lock Lane bridge. This chamber has been used in the past as a landfill site and we have therefore contracted with Leedale to undertake this work on our behalf during the week commencing 3rd December. \nWe recognise that this will inconvenience residents as the spoil will be transported along Lock Lane between 8am and 5pm each day. We will therefore be asking residents not to park on Lock Lane during these hours. Residents living between our canal path and the Erewash Canal will have severely restricted access over Lock Lane Bridge. \nWe would like to invite all interested parties to a public meeting where we can ensure we minimise any inconvenience and complete the work as quickly as possible. Attendees will be able to talk to a director of the contractor Leedale and to directors of the Derby and Sandiacre Canal Trust about this work and progress on the larger restoration project. \nIf you cannot attend questions can be sent to info@derbycanal.org.uk
URL:https://derbycanal.org.uk/event/sandiacre-public-event-dsc-trust-leedale-lock-dig-out/
LOCATION:The Bridge Inn\, Sandiacre\, 52.914577\, -1.290304
CATEGORIES:Other Events
ATTACH;FMTTYPE=image/jpeg:https://derbycanal.org.uk/wp-content/uploads/2017/12/SSA56390.jpg
END:VEVENT
BEGIN:VEVENT
DTSTART;TZID=Europe/London:20181114T193000
DTEND;TZID=Europe/London:20181114T213000
DTSTAMP:20260423T121559
CREATED:20171007T100549Z
LAST-MODIFIED:20180424T170911Z
UID:4505-1542223800-1542231000@derbycanal.org.uk
SUMMARY:Executive Group Meeting
DESCRIPTION:Executive Group Meeting\nThe Executive Group is drawn from co-opted members from the Trust Board and enthusiasts brought together to further the restoration. The members bring a range of expertise and experience to the table to enable the body to address the many varied issues that arise.
URL:https://derbycanal.org.uk/event/executive-group-meeting-20181114/
LOCATION:Spondon Village Hall\, Sitwell Street\, Derby\, Derbyshire\, DE21 7FG\, United Kingdom
CATEGORIES:Development Group
END:VEVENT
BEGIN:VEVENT
DTSTART;TZID=Europe/London:20181114T093000
DTEND;TZID=Europe/London:20181114T130000
DTSTAMP:20260423T121559
CREATED:20170816T175905Z
LAST-MODIFIED:20181029T162447Z
UID:4917-1542187800-1542200400@derbycanal.org.uk
SUMMARY:Working Party - Sandiacre
DESCRIPTION:Derby Canal at Sandiacre Lock \nWork Description: \nThe work will include clearing vegetation and grass cutting to maintain the area ahead of future restoration of the lock. \nHS&E requirements: \nSturdy Boots and gloves are recommended. \nGetting there: \nParking may be found near Lock Lane. \nMap coordinates: 52.917178\, -1.285162
URL:https://derbycanal.org.uk/event/working-party-sandiacre-20181114/
LOCATION:Sandiacre Lock\, 52.917083\, -1.285250
CATEGORIES:Working Party
END:VEVENT
BEGIN:VEVENT
DTSTART;TZID=Europe/London:20181112T193000
DTEND;TZID=Europe/London:20181112T220000
DTSTAMP:20260423T121559
CREATED:20170927T210335Z
LAST-MODIFIED:20171216T155630Z
UID:4229-1542051000-1542060000@derbycanal.org.uk
SUMMARY:Society Committee Meeting
DESCRIPTION:Held the 2nd Monday of every Month\, the society committee meets to discuss progress made\, upcoming plans and any new opportunities! \nMembers are welcome to attend as observers\, please contact coordinator@derbycanal.org.uk for details.
URL:https://derbycanal.org.uk/event/society-committee-meeting-20181112/
END:VEVENT
BEGIN:VEVENT
DTSTART;TZID=Europe/London:20181111T093000
DTEND;TZID=Europe/London:20181111T130000
DTSTAMP:20260423T121559
CREATED:20170819T155941Z
LAST-MODIFIED:20181029T162926Z
UID:4915-1541928600-1541941200@derbycanal.org.uk
SUMMARY:Working Party - Spondon
DESCRIPTION:Spondon – Canal Restoration \nWork Description: \nCome and lend a hand with our restoration of Canal Line at Spondon. \nPlease note – there will be a 2 minute silence at 11am for Remembrance Sunday. \nTo Bring: A Smile\,refreshments\, stout shoes\, other useful tools. \nHS&E requirements: \nSturdy boots and gloves are recommended \nGetting there: \nMap coordinates:-   TBD – expected to meet near the Canal turn pub.
URL:https://derbycanal.org.uk/event/working-party-spondon-20181111/
CATEGORIES:Working Party
END:VEVENT
BEGIN:VEVENT
DTSTART;TZID=Europe/London:20181107T093000
DTEND;TZID=Europe/London:20181107T130000
DTSTAMP:20260423T121559
CREATED:20170816T175905Z
LAST-MODIFIED:20181029T161919Z
UID:4911-1541583000-1541595600@derbycanal.org.uk
SUMMARY:Working Party - Sandiacre
DESCRIPTION:Derby Canal at Sandiacre Lock \nWork Description: \nThe work will include clearing vegetation and grass cutting to maintain the area ahead of future restoration of the lock. \nHS&E requirements: \nSturdy Boots and gloves are recommended. \nGetting there: \nParking may be found near Lock Lane. \nMap coordinates: 52.917178\, -1.285162
URL:https://derbycanal.org.uk/event/working-party-sandiacre-20181107/
LOCATION:Sandiacre Lock\, 52.917083\, -1.285250
CATEGORIES:Working Party
END:VEVENT
BEGIN:VEVENT
DTSTART;TZID=Europe/London:20181031T093000
DTEND;TZID=Europe/London:20181031T130000
DTSTAMP:20260423T121559
CREATED:20170816T175905Z
LAST-MODIFIED:20180913T200937Z
UID:4843-1540978200-1540990800@derbycanal.org.uk
SUMMARY:Working Party - Sandiacre
DESCRIPTION:Derby Canal at Sandiacre Lock \nWork Description: \nThe work will include clearing vegetation and grass cutting to maintain the area ahead of future restoration of the lock. \nHS&E requirements: \nSturdy Boots and gloves are recommended. \nGetting there: \nParking may be found near Lock Lane. \nMap coordinates: 52.917178\, -1.285162
URL:https://derbycanal.org.uk/event/working-party-sandiacre-20181031/
LOCATION:Sandiacre Lock\, 52.917083\, -1.285250
CATEGORIES:Working Party
END:VEVENT
BEGIN:VEVENT
DTSTART;TZID=Europe/London:20181028T093000
DTEND;TZID=Europe/London:20181028T130000
DTSTAMP:20260423T121559
CREATED:20170816T175905Z
LAST-MODIFIED:20180913T200850Z
UID:4840-1540719000-1540731600@derbycanal.org.uk
SUMMARY:Working Party - Sandiacre
DESCRIPTION:Derby Canal at Sandiacre Lock \nWork Description: \nThe work will include clearing vegetation and grass cutting to maintain the area ahead of future restoration of the lock. \nHS&E requirements: \nSturdy Boots and gloves are recommended. \nGetting there: \nParking may be found near Lock Lane. \nMap coordinates: 52.917178\, -1.285162
URL:https://derbycanal.org.uk/event/working-party-sandiacre-20181028/
LOCATION:Sandiacre Lock\, 52.917083\, -1.285250
CATEGORIES:Working Party
END:VEVENT
BEGIN:VEVENT
DTSTART;TZID=Europe/London:20181024T193000
DTEND;TZID=Europe/London:20181024T213000
DTSTAMP:20260423T121559
CREATED:20171007T100549Z
LAST-MODIFIED:20180424T170800Z
UID:4483-1540409400-1540416600@derbycanal.org.uk
SUMMARY:Executive Group Meeting
DESCRIPTION:Executive Group Meeting\nThe Executive Group is drawn from co-opted members from the Trust Board and enthusiasts brought together to further the restoration. The members bring a range of expertise and experience to the table to enable the body to address the many varied issues that arise.
URL:https://derbycanal.org.uk/event/executive-group-meeting-20181024/
LOCATION:Spondon Village Hall\, Sitwell Street\, Derby\, Derbyshire\, DE21 7FG\, United Kingdom
CATEGORIES:Development Group
END:VEVENT
BEGIN:VEVENT
DTSTART;TZID=Europe/London:20181024T093000
DTEND;TZID=Europe/London:20181024T130000
DTSTAMP:20260423T121559
CREATED:20170816T175905Z
LAST-MODIFIED:20180913T200620Z
UID:4835-1540373400-1540386000@derbycanal.org.uk
SUMMARY:Working Party - Sandiacre
DESCRIPTION:Derby Canal at Sandiacre Lock \nWork Description: \nThe work will include clearing vegetation and grass cutting to maintain the area ahead of future restoration of the lock. \nHS&E requirements: \nSturdy Boots and gloves are recommended. \nGetting there: \nParking may be found near Lock Lane. \nMap coordinates: 52.917178\, -1.285162
URL:https://derbycanal.org.uk/event/working-party-sandiacre-20181024/
LOCATION:Sandiacre Lock\, 52.917083\, -1.285250
CATEGORIES:Working Party
END:VEVENT
BEGIN:VEVENT
DTSTART;TZID=Europe/London:20181023T193000
DTEND;TZID=Europe/London:20181023T213000
DTSTAMP:20260423T121559
CREATED:20171006T185326Z
LAST-MODIFIED:20171006T215054Z
UID:3640-1540323000-1540330200@derbycanal.org.uk
SUMMARY:Society Social Meeting - AGM
DESCRIPTION:A.G.M.\nOur yearly Annual General Meeting. \nFeel free to come along to find out about our successes this year and our plans for the coming year!
URL:https://derbycanal.org.uk/event/society-social-meeting-3/
LOCATION:Wilmot Arms\, Derby Road\, Borrowash\, Derby\, Derbyshire\, DE72 3HA\, United Kingdom
CATEGORIES:Trust Social
END:VEVENT
BEGIN:VEVENT
DTSTART;TZID=Europe/London:20181017T193000
DTEND;TZID=Europe/London:20181017T213000
DTSTAMP:20260423T121559
CREATED:20171007T095643Z
LAST-MODIFIED:20171007T100333Z
UID:3667-1539804600-1539811800@derbycanal.org.uk
SUMMARY:Trust Board Meeting
DESCRIPTION:Trust Board Meeting\nThe Trust Board meets quarterly to receive reports from officers\, the Trust Executive Group and the Society. \nThe Trust Board has delegated limited powers to the Executive Group to manage the day to day business of the Trust\, but all expenditure and commitments are approved by the Trust Board. \nMeetings are open to the public.
URL:https://derbycanal.org.uk/event/trust-board-meeting-2-2-2/
LOCATION:Chequers Inn\, 10 Main Street\, Breaston\, Derby\, Derbyshire\, DE72 3DX\, United Kingdom
CATEGORIES:Trustee Board
END:VEVENT
BEGIN:VEVENT
DTSTART;TZID=Europe/London:20181014T093000
DTEND;TZID=Europe/London:20181014T130000
DTSTAMP:20260423T121559
CREATED:20170816T175905Z
LAST-MODIFIED:20180913T200213Z
UID:4826-1539509400-1539522000@derbycanal.org.uk
SUMMARY:Working Party - Sandiacre
DESCRIPTION:Derby Canal at Sandiacre Lock \nWork Description: \nThe work will include clearing vegetation and grass cutting to maintain the area ahead of future restoration of the lock. \nHS&E requirements: \nSturdy Boots and gloves are recommended. \nGetting there: \nParking may be found near Lock Lane. \nMap coordinates: 52.917178\, -1.285162
URL:https://derbycanal.org.uk/event/working-party-sandiacre-20181014/
LOCATION:Sandiacre Lock\, 52.917083\, -1.285250
CATEGORIES:Working Party
END:VEVENT
BEGIN:VEVENT
DTSTART;TZID=Europe/London:20181010T193000
DTEND;TZID=Europe/London:20181010T213000
DTSTAMP:20260423T121559
CREATED:20171007T095643Z
LAST-MODIFIED:20180424T165422Z
UID:4478-1539199800-1539207000@derbycanal.org.uk
SUMMARY:Trust Board Meeting
DESCRIPTION:Trust Board Meeting\nThe Trust Board meets quarterly to receive reports from officers\, the Trust Executive Group and the Society. \nThe Trust Board has delegated limited powers to the Executive Group to manage the day to day business of the Trust\, but all expenditure and commitments are approved by the Trust Board. \nMeetings are open to the public.
URL:https://derbycanal.org.uk/event/trust-board-meeting-20181010/
LOCATION:Chequers Inn\, 10 Main Street\, Breaston\, Derby\, Derbyshire\, DE72 3DX\, United Kingdom
CATEGORIES:Trustee Board
END:VEVENT
BEGIN:VEVENT
DTSTART;TZID=Europe/London:20181008T193000
DTEND;TZID=Europe/London:20181008T220000
DTSTAMP:20260423T121559
CREATED:20170927T210335Z
LAST-MODIFIED:20171216T155214Z
UID:4222-1539027000-1539036000@derbycanal.org.uk
SUMMARY:Society Committee Meeting
DESCRIPTION:Held the 2nd Monday of every Month\, the society committee meets to discuss progress made\, upcoming plans and any new opportunities! \nMembers are welcome to attend as observers\, please contact coordinator@derbycanal.org.uk for details.
URL:https://derbycanal.org.uk/event/society-committee-meeting-20181008/
END:VEVENT
BEGIN:VEVENT
DTSTART;TZID=Europe/London:20181003T193000
DTEND;TZID=Europe/London:20181003T213000
DTSTAMP:20260423T121559
CREATED:20171007T100549Z
LAST-MODIFIED:20180424T170718Z
UID:4484-1538595000-1538602200@derbycanal.org.uk
SUMMARY:Executive Group Meeting
DESCRIPTION:Executive Group Meeting\nThe Executive Group is drawn from co-opted members from the Trust Board and enthusiasts brought together to further the restoration. The members bring a range of expertise and experience to the table to enable the body to address the many varied issues that arise.
URL:https://derbycanal.org.uk/event/executive-group-meeting-20181003/
LOCATION:Spondon Village Hall\, Sitwell Street\, Derby\, Derbyshire\, DE21 7FG\, United Kingdom
CATEGORIES:Development Group
END:VEVENT
BEGIN:VEVENT
DTSTART;TZID=Europe/London:20181003T093000
DTEND;TZID=Europe/London:20181003T130000
DTSTAMP:20260423T121559
CREATED:20170816T175905Z
LAST-MODIFIED:20180913T195226Z
UID:4815-1538559000-1538571600@derbycanal.org.uk
SUMMARY:Working Party - Sandiacre
DESCRIPTION:Derby Canal at Sandiacre Lock \nWork Description: \nThe work will include clearing vegetation and grass cutting to maintain the area ahead of future restoration of the lock. \nHS&E requirements: \nSturdy Boots and gloves are recommended. \nGetting there: \nParking may be found near Lock Lane. \nMap coordinates: 52.917178\, -1.285162
URL:https://derbycanal.org.uk/event/working-party-sandiacre-20181003/
LOCATION:Sandiacre Lock\, 52.917083\, -1.285250
CATEGORIES:Working Party
END:VEVENT
BEGIN:VEVENT
DTSTART;TZID=Europe/London:20180930T093000
DTEND;TZID=Europe/London:20180930T130000
DTSTAMP:20260423T121559
CREATED:20170816T175905Z
LAST-MODIFIED:20180913T195114Z
UID:4813-1538299800-1538312400@derbycanal.org.uk
SUMMARY:Working Party - Sandiacre
DESCRIPTION:Derby Canal at Sandiacre Lock \nWork Description: \nThe work will include clearing vegetation and grass cutting to maintain the area ahead of future restoration of the lock. \nHS&E requirements: \nSturdy Boots and gloves are recommended. \nGetting there: \nParking may be found near Lock Lane. \nMap coordinates: 52.917178\, -1.285162
URL:https://derbycanal.org.uk/event/working-party-sandiacre-20180930/
LOCATION:Sandiacre Lock\, 52.917083\, -1.285250
CATEGORIES:Working Party
END:VEVENT
BEGIN:VEVENT
DTSTART;TZID=Europe/London:20180926T093000
DTEND;TZID=Europe/London:20180926T130000
DTSTAMP:20260423T121559
CREATED:20170816T175905Z
LAST-MODIFIED:20180913T194824Z
UID:4809-1537954200-1537966800@derbycanal.org.uk
SUMMARY:Working Party - Sandiacre
DESCRIPTION:Derby Canal at Sandiacre Lock \nWork Description: \nThe work will include clearing vegetation and grass cutting to maintain the area ahead of future restoration of the lock. \nHS&E requirements: \nSturdy Boots and gloves are recommended. \nGetting there: \nParking may be found near Lock Lane. \nMap coordinates: 52.917178\, -1.285162
URL:https://derbycanal.org.uk/event/working-party-sandiacre-20180926/
LOCATION:Sandiacre Lock\, 52.917083\, -1.285250
CATEGORIES:Working Party
END:VEVENT
BEGIN:VEVENT
DTSTART;TZID=Europe/London:20180925T193000
DTEND;TZID=Europe/London:20180925T213000
DTSTAMP:20260423T121559
CREATED:20171006T185326Z
LAST-MODIFIED:20171006T215005Z
UID:3638-1537903800-1537911000@derbycanal.org.uk
SUMMARY:Society Social Meeting - Talk
DESCRIPTION:Kieran Lee – “Friends of Bennerley Viaduct”\nFurther details to be announced closer to the time. \n 
URL:https://derbycanal.org.uk/event/society-social-meeting-2-2-2-5-2-2/
LOCATION:Wilmot Arms\, Derby Road\, Borrowash\, Derby\, Derbyshire\, DE72 3HA\, United Kingdom
CATEGORIES:Trust Social
END:VEVENT
BEGIN:VEVENT
DTSTART;TZID=Europe/London:20180923T093000
DTEND;TZID=Europe/London:20180923T130000
DTSTAMP:20260423T121559
CREATED:20170816T175905Z
LAST-MODIFIED:20180913T194654Z
UID:4807-1537695000-1537707600@derbycanal.org.uk
SUMMARY:Working Party - Sandiacre
DESCRIPTION:Derby Canal at Sandiacre Lock \nWork Description: \nThe work will include clearing vegetation and grass cutting to maintain the area ahead of future restoration of the lock. \nHS&E requirements: \nSturdy Boots and gloves are recommended. \nGetting there: \nParking may be found near Lock Lane. \nMap coordinates: 52.917178\, -1.285162
URL:https://derbycanal.org.uk/event/working-party-sandiacre-20180923/
LOCATION:Sandiacre Lock\, 52.917083\, -1.285250
CATEGORIES:Working Party
END:VEVENT
BEGIN:VEVENT
DTSTART;TZID=Europe/London:20180919T093000
DTEND;TZID=Europe/London:20180919T130000
DTSTAMP:20260423T121559
CREATED:20170816T175905Z
LAST-MODIFIED:20180913T194502Z
UID:4805-1537349400-1537362000@derbycanal.org.uk
SUMMARY:Working Party - Sandiacre
DESCRIPTION:Derby Canal at Sandiacre Lock \nWork Description: \nThe work will include clearing vegetation and grass cutting to maintain the area ahead of future restoration of the lock. \nHS&E requirements: \nSturdy Boots and gloves are recommended. \nGetting there: \nParking may be found near Lock Lane. \nMap coordinates: 52.917178\, -1.285162
URL:https://derbycanal.org.uk/event/working-party-sandiacre-20180919/
LOCATION:Sandiacre Lock\, 52.917083\, -1.285250
CATEGORIES:Working Party
END:VEVENT
BEGIN:VEVENT
DTSTART;TZID=Europe/London:20180912T193000
DTEND;TZID=Europe/London:20180912T213000
DTSTAMP:20260423T121559
CREATED:20171007T100549Z
LAST-MODIFIED:20180424T170626Z
UID:4485-1536780600-1536787800@derbycanal.org.uk
SUMMARY:Executive Group Meeting
DESCRIPTION:Executive Group Meeting\nThe Executive Group is drawn from co-opted members from the Trust Board and enthusiasts brought together to further the restoration. The members bring a range of expertise and experience to the table to enable the body to address the many varied issues that arise.
URL:https://derbycanal.org.uk/event/executive-group-meeting-20180912/
LOCATION:Spondon Village Hall\, Sitwell Street\, Derby\, Derbyshire\, DE21 7FG\, United Kingdom
CATEGORIES:Development Group
END:VEVENT
BEGIN:VEVENT
DTSTART;TZID=Europe/London:20180910T193000
DTEND;TZID=Europe/London:20180910T220000
DTSTAMP:20260423T121559
CREATED:20170927T210335Z
LAST-MODIFIED:20171216T154725Z
UID:4215-1536607800-1536616800@derbycanal.org.uk
SUMMARY:Society Committee Meeting
DESCRIPTION:Held the 2nd Monday of every Month\, the society committee meets to discuss progress made\, upcoming plans and any new opportunities! \nMembers are welcome to attend as observers\, please contact coordinator@derbycanal.org.uk for details.
URL:https://derbycanal.org.uk/event/society-committee-meeting-20180910/
END:VEVENT
BEGIN:VEVENT
DTSTART;TZID=Europe/London:20180909T093000
DTEND;TZID=Europe/London:20180909T130000
DTSTAMP:20260423T121559
CREATED:20170819T155941Z
LAST-MODIFIED:20180804T212932Z
UID:4789-1536485400-1536498000@derbycanal.org.uk
SUMMARY:Working Party - Spondon
DESCRIPTION:Spondon – Canal Restoration \nWork Description: \nCome and lend a hand with our restoration of Canal Line at Spondon. \nTo Bring: A Smile\,refreshments\, stout shoes\, other useful tools. \nHS&E requirements: \nSturdy boots and gloves are recommended \nGetting there: \nMap coordinates:-   TBD – expected to meet near the Canal turn pub.
URL:https://derbycanal.org.uk/event/working-party-spondon-20180909/
CATEGORIES:Working Party
END:VEVENT
BEGIN:VEVENT
DTSTART;TZID=Europe/London:20180826T093000
DTEND;TZID=Europe/London:20180826T130000
DTSTAMP:20260423T121559
CREATED:20170819T155941Z
LAST-MODIFIED:20180804T212828Z
UID:4786-1535275800-1535288400@derbycanal.org.uk
SUMMARY:Working Party - Spondon
DESCRIPTION:Spondon – Canal Restoration \nWork Description: \nCome and lend a hand with our restoration of Canal Line at Spondon. \nTo Bring: A Smile\,refreshments\, stout shoes\, other useful tools. \nHS&E requirements: \nSturdy boots and gloves are recommended \nGetting there: \nMap coordinates:-   TBD – expected to meet near the Canal turn pub.
URL:https://derbycanal.org.uk/event/working-party-spondon-20180826/
CATEGORIES:Working Party
END:VEVENT
BEGIN:VEVENT
DTSTART;TZID=Europe/London:20180822T193000
DTEND;TZID=Europe/London:20180822T213000
DTSTAMP:20260423T121559
CREATED:20171007T100549Z
LAST-MODIFIED:20180424T170531Z
UID:4486-1534966200-1534973400@derbycanal.org.uk
SUMMARY:Executive Group Meeting
DESCRIPTION:Executive Group Meeting\nThe Executive Group is drawn from co-opted members from the Trust Board and enthusiasts brought together to further the restoration. The members bring a range of expertise and experience to the table to enable the body to address the many varied issues that arise.
URL:https://derbycanal.org.uk/event/executive-group-meeting-20180822/
LOCATION:Spondon Village Hall\, Sitwell Street\, Derby\, Derbyshire\, DE21 7FG\, United Kingdom
CATEGORIES:Development Group
END:VEVENT
BEGIN:VEVENT
DTSTART;TZID=Europe/London:20180813T193000
DTEND;TZID=Europe/London:20180813T220000
DTSTAMP:20260423T121559
CREATED:20170927T210335Z
LAST-MODIFIED:20180812T180314Z
UID:4198-1534188600-1534197600@derbycanal.org.uk
SUMMARY:Society Committee Meeting
DESCRIPTION:Held the 2nd Monday of every Month\, the society committee meets to discuss progress made\, upcoming plans and any new opportunities! \nMembers are welcome to attend as observers\, please contact coordinator@derbycanal.org.uk for details.
URL:https://derbycanal.org.uk/event/society-committee-meeting-20180813/
END:VEVENT
BEGIN:VEVENT
DTSTART;TZID=Europe/London:20180812T093000
DTEND;TZID=Europe/London:20180812T130000
DTSTAMP:20260423T121559
CREATED:20170816T175905Z
LAST-MODIFIED:20180804T212351Z
UID:4784-1534066200-1534078800@derbycanal.org.uk
SUMMARY:Working Party - Sandiacre
DESCRIPTION:Derby Canal Lock at Sandiacre  \nWork Description: \nThe work will include clearing vegetation and/or aiding in restoration of the old lock\, which will be excavated and cleared of spoil in the near future. \nHS&E requirements: \nSturdy Boots and gloves are recommended. \nGetting there: \nParking on and around Lock Lane\, and there a number of places that you can walk through to the canal line. \nMap coordinates –  52.917195\, -1.285172
URL:https://derbycanal.org.uk/event/working-party-sandiacre-20180812/
LOCATION:Sandiacre Lock\, 52.917083\, -1.285250
CATEGORIES:Working Party
END:VEVENT
END:VCALENDAR