BEGIN:VCALENDAR
VERSION:2.0
PRODID:-//Derby and Sandiacre Canal Trust - ECPv6.15.20//NONSGML v1.0//EN
CALSCALE:GREGORIAN
METHOD:PUBLISH
X-WR-CALNAME:Derby and Sandiacre Canal Trust
X-ORIGINAL-URL:https://derbycanal.org.uk
X-WR-CALDESC:Events for Derby and Sandiacre Canal Trust
REFRESH-INTERVAL;VALUE=DURATION:PT1H
X-Robots-Tag:noindex
X-PUBLISHED-TTL:PT1H
BEGIN:VTIMEZONE
TZID:Europe/London
BEGIN:DAYLIGHT
TZOFFSETFROM:+0000
TZOFFSETTO:+0100
TZNAME:BST
DTSTART:20170326T010000
END:DAYLIGHT
BEGIN:STANDARD
TZOFFSETFROM:+0100
TZOFFSETTO:+0000
TZNAME:GMT
DTSTART:20171029T010000
END:STANDARD
BEGIN:DAYLIGHT
TZOFFSETFROM:+0000
TZOFFSETTO:+0100
TZNAME:BST
DTSTART:20180325T010000
END:DAYLIGHT
BEGIN:STANDARD
TZOFFSETFROM:+0100
TZOFFSETTO:+0000
TZNAME:GMT
DTSTART:20181028T010000
END:STANDARD
BEGIN:DAYLIGHT
TZOFFSETFROM:+0000
TZOFFSETTO:+0100
TZNAME:BST
DTSTART:20190331T010000
END:DAYLIGHT
BEGIN:STANDARD
TZOFFSETFROM:+0100
TZOFFSETTO:+0000
TZNAME:GMT
DTSTART:20191027T010000
END:STANDARD
BEGIN:DAYLIGHT
TZOFFSETFROM:+0000
TZOFFSETTO:+0100
TZNAME:BST
DTSTART:20200329T010000
END:DAYLIGHT
BEGIN:STANDARD
TZOFFSETFROM:+0100
TZOFFSETTO:+0000
TZNAME:GMT
DTSTART:20201025T010000
END:STANDARD
END:VTIMEZONE
BEGIN:VEVENT
DTSTART;TZID=Europe/London:20190213T093000
DTEND;TZID=Europe/London:20190213T130000
DTSTAMP:20260423T105353
CREATED:20170816T175905Z
LAST-MODIFIED:20190209T094310Z
UID:5155-1550050200-1550062800@derbycanal.org.uk
SUMMARY:Working Party - Sandiacre
DESCRIPTION:Derby Canal at Sandiacre Lock \nWork Description: \nThe work will include clearing vegetation and grass cutting to maintain the area ahead of future restoration of the lock. \nHS&E requirements: \nSturdy Boots and gloves are recommended. \nGetting there: \nParking may be found near Lock Lane. \nMap coordinates: 52.917178\, -1.285162
URL:https://derbycanal.org.uk/event/working-party-sandiacre-20190213/
LOCATION:Sandiacre Lock\, 52.917083\, -1.285250
CATEGORIES:Working Party
END:VEVENT
BEGIN:VEVENT
DTSTART;TZID=Europe/London:20190211T193000
DTEND;TZID=Europe/London:20190211T220000
DTSTAMP:20260423T105353
CREATED:20170927T210335Z
LAST-MODIFIED:20190202T113717Z
UID:5167-1549913400-1549922400@derbycanal.org.uk
SUMMARY:Society Committee Meeting
DESCRIPTION:Held the 2nd Monday of every Month\, the society committee meets to discuss progress made\, upcoming plans and any new opportunities! \nMembers are welcome to attend as observers\, please contact coordinator@derbycanal.org.uk for details.
URL:https://derbycanal.org.uk/event/society-committee-meeting-20190211/
END:VEVENT
BEGIN:VEVENT
DTSTART;TZID=Europe/London:20190210T093000
DTEND;TZID=Europe/London:20190210T130000
DTSTAMP:20260423T105353
CREATED:20170816T175905Z
LAST-MODIFIED:20190209T094501Z
UID:5233-1549791000-1549803600@derbycanal.org.uk
SUMMARY:Working Party - Sandiacre
DESCRIPTION:Derby Canal at Sandiacre Lock \nWork Description: \nThe work will include clearing vegetation and grass cutting to maintain the area ahead of future restoration of the lock. \nHS&E requirements: \nSturdy Boots and gloves are recommended. \nGetting there: \nParking may be found near Lock Lane. \nMap coordinates: 52.917178\, -1.285162
URL:https://derbycanal.org.uk/event/working-party-sandiacre-20190210/
LOCATION:Sandiacre Lock\, 52.917083\, -1.285250
CATEGORIES:Working Party
END:VEVENT
BEGIN:VEVENT
DTSTART;TZID=Europe/London:20190208T093000
DTEND;TZID=Europe/London:20190208T130000
DTSTAMP:20260423T105353
CREATED:20170816T175905Z
LAST-MODIFIED:20190202T102726Z
UID:5156-1549618200-1549630800@derbycanal.org.uk
SUMMARY:Working Party - Sandiacre
DESCRIPTION:Derby Canal at Sandiacre Lock \nWork Description: \n*special* supporting the lock dig out activities ongoing this week. \nHS&E requirements: \nSturdy Boots and gloves are recommended. \nGetting there: \nNo parking available on Lock Lane\, nearby alternatives are available. \nMap coordinates: 52.917178\, -1.285162
URL:https://derbycanal.org.uk/event/working-party-sandiacre-20190206-2/
LOCATION:Sandiacre Lock\, 52.917083\, -1.285250
CATEGORIES:Working Party
END:VEVENT
BEGIN:VEVENT
DTSTART;TZID=Europe/London:20190206T093000
DTEND;TZID=Europe/London:20190206T130000
DTSTAMP:20260423T105353
CREATED:20170816T175905Z
LAST-MODIFIED:20190202T102427Z
UID:5153-1549445400-1549458000@derbycanal.org.uk
SUMMARY:Working Party - Sandiacre
DESCRIPTION:Derby Canal at Sandiacre Lock \nWork Description: \n*special* supporting the lock dig out activities ongoing this week. \nHS&E requirements: \nSturdy Boots and gloves are recommended. \nGetting there: \nNo parking available on Lock Lane\, nearby alternatives are available. \nMap coordinates: 52.917178\, -1.285162
URL:https://derbycanal.org.uk/event/working-party-sandiacre-20190206/
LOCATION:Sandiacre Lock\, 52.917083\, -1.285250
CATEGORIES:Working Party
END:VEVENT
BEGIN:VEVENT
DTSTART;TZID=Europe/London:20190204T080000
DTEND;TZID=Europe/London:20190213T170000
DTSTAMP:20260423T105353
CREATED:20190202T102000Z
LAST-MODIFIED:20190209T094209Z
UID:5149-1549267200-1550077200@derbycanal.org.uk
SUMMARY:Sandiacre Lock Dig Out
DESCRIPTION:Sandiacre Lock Dig Out\n\n*** Please note: end date extended to 13th February due to Rain ***\n\nAny hours will be gratefully accepted\, please advise any availability to chairman@derbycanal.org.uk\n\nWork Description:\n\nWe now have approval to start the dig out of the bottom lock at Sandiacre! We need two banksmen/women to assist the public for the week that is involved. No digging\, just chatting to people and a little traffic control to ensure safety\, you will need to bring your own refreshments and PPE\, local facilities are available at the local pub near the bridge\, wrap up warm and enjoy the day. \nHS&E requirements: \nSturdy Boots\, gloves and PPE are recommended. \nGetting there: \nNo parking available on Lock Lane due to the works\, other locations nearby are available. \nMap coordinates: 52.917178\, -1.285162
URL:https://derbycanal.org.uk/event/sandiacre-lock-dig-out/
LOCATION:Sandiacre Lock\, 52.917083\, -1.285250
CATEGORIES:Working Party
END:VEVENT
BEGIN:VEVENT
DTSTART;TZID=Europe/London:20190130T193000
DTEND;TZID=Europe/London:20190130T213000
DTSTAMP:20260423T105353
CREATED:20171007T100549Z
LAST-MODIFIED:20190123T182219Z
UID:5098-1548876600-1548883800@derbycanal.org.uk
SUMMARY:Executive Group Meeting
DESCRIPTION:Executive Group Meeting\nThe Executive Group is drawn from co-opted members from the Trust Board and enthusiasts brought together to further the restoration. The members bring a range of expertise and experience to the table to enable the body to address the many varied issues that arise.
URL:https://derbycanal.org.uk/event/executive-group-meeting-20190130/
LOCATION:Spondon Village Hall\, Sitwell Street\, Derby\, Derbyshire\, DE21 7FG\, United Kingdom
CATEGORIES:Development Group
END:VEVENT
BEGIN:VEVENT
DTSTART;TZID=Europe/London:20190122T193000
DTEND;TZID=Europe/London:20190122T213000
DTSTAMP:20260423T105353
CREATED:20171006T185326Z
LAST-MODIFIED:20181029T173413Z
UID:4983-1548185400-1548192600@derbycanal.org.uk
SUMMARY:Society Social Meeting - Talk
DESCRIPTION:Ian Webb – The Hospital Ship “Asturias”\nFurther details to be announced closer to the time. \n 
URL:https://derbycanal.org.uk/event/society-social-meeting-20180122/
LOCATION:Wilmot Arms\, Derby Road\, Borrowash\, Derby\, Derbyshire\, DE72 3HA\, United Kingdom
CATEGORIES:Trust Social
END:VEVENT
BEGIN:VEVENT
DTSTART;TZID=Europe/London:20190116T193000
DTEND;TZID=Europe/London:20190116T213000
DTSTAMP:20260423T105353
CREATED:20171007T100549Z
LAST-MODIFIED:20180424T171111Z
UID:4482-1547667000-1547674200@derbycanal.org.uk
SUMMARY:Executive Group Meeting
DESCRIPTION:Executive Group Meeting\nThe Executive Group is drawn from co-opted members from the Trust Board and enthusiasts brought together to further the restoration. The members bring a range of expertise and experience to the table to enable the body to address the many varied issues that arise.
URL:https://derbycanal.org.uk/event/executive-group-meeting-201890116/
LOCATION:Spondon Village Hall\, Sitwell Street\, Derby\, Derbyshire\, DE21 7FG\, United Kingdom
CATEGORIES:Development Group
END:VEVENT
BEGIN:VEVENT
DTSTART;TZID=Europe/London:20190106T093000
DTEND;TZID=Europe/London:20190106T130000
DTSTAMP:20260423T105353
CREATED:20170816T175905Z
LAST-MODIFIED:20190112T195608Z
UID:5103-1546767000-1546779600@derbycanal.org.uk
SUMMARY:Working Party - Sandiacre
DESCRIPTION:Derby Canal at Sandiacre Lock \nWork Description: \nThe work will include clearing vegetation and grass cutting to maintain the area ahead of future restoration of the lock. \nHS&E requirements: \nSturdy Boots and gloves are recommended. \nGetting there: \nParking may be found near Lock Lane. \nMap coordinates: 52.917178\, -1.285162
URL:https://derbycanal.org.uk/event/working-party-sandiacre-20190106/
LOCATION:Sandiacre Lock\, 52.917083\, -1.285250
CATEGORIES:Working Party
END:VEVENT
BEGIN:VEVENT
DTSTART;TZID=Europe/London:20181219T093000
DTEND;TZID=Europe/London:20181219T130000
DTSTAMP:20260423T105353
CREATED:20170816T175905Z
LAST-MODIFIED:20181029T164706Z
UID:4956-1545211800-1545224400@derbycanal.org.uk
SUMMARY:Working Party - Sandiacre
DESCRIPTION:Derby Canal at Sandiacre Lock \nWork Description: \nThe work will include clearing vegetation and grass cutting to maintain the area ahead of future restoration of the lock. \nHS&E requirements: \nSturdy Boots and gloves are recommended. \nGetting there: \nParking may be found near Lock Lane. \nMap coordinates: 52.917178\, -1.285162
URL:https://derbycanal.org.uk/event/working-party-sandiacre-20181219/
LOCATION:Sandiacre Lock\, 52.917083\, -1.285250
CATEGORIES:Working Party
END:VEVENT
BEGIN:VEVENT
DTSTART;TZID=Europe/London:20181210T193000
DTEND;TZID=Europe/London:20181210T220000
DTSTAMP:20260423T105353
CREATED:20170927T210335Z
LAST-MODIFIED:20171216T160119Z
UID:4237-1544470200-1544479200@derbycanal.org.uk
SUMMARY:Society Committee Meeting
DESCRIPTION:Held the 2nd Monday of every Month\, the society committee meets to discuss progress made\, upcoming plans and any new opportunities! \nMembers are welcome to attend as observers\, please contact coordinator@derbycanal.org.uk for details.
URL:https://derbycanal.org.uk/event/society-committee-meeting-20181210/
END:VEVENT
BEGIN:VEVENT
DTSTART;TZID=Europe/London:20181205T193000
DTEND;TZID=Europe/London:20181205T213000
DTSTAMP:20260423T105353
CREATED:20171007T100549Z
LAST-MODIFIED:20180424T171008Z
UID:4504-1544038200-1544045400@derbycanal.org.uk
SUMMARY:Executive Group Meeting
DESCRIPTION:Executive Group Meeting\nThe Executive Group is drawn from co-opted members from the Trust Board and enthusiasts brought together to further the restoration. The members bring a range of expertise and experience to the table to enable the body to address the many varied issues that arise.
URL:https://derbycanal.org.uk/event/executive-group-meeting-20181205/
LOCATION:Spondon Village Hall\, Sitwell Street\, Derby\, Derbyshire\, DE21 7FG\, United Kingdom
CATEGORIES:Development Group
END:VEVENT
BEGIN:VEVENT
DTSTART;TZID=Europe/London:20181205T093000
DTEND;TZID=Europe/London:20181205T130000
DTSTAMP:20260423T105353
CREATED:20170816T175905Z
LAST-MODIFIED:20181029T164049Z
UID:4943-1544002200-1544014800@derbycanal.org.uk
SUMMARY:Working Party - Sandiacre
DESCRIPTION:Derby Canal at Sandiacre Lock \nWork Description: \nThe work will include clearing vegetation and grass cutting to maintain the area ahead of future restoration of the lock. \nHS&E requirements: \nSturdy Boots and gloves are recommended. \nGetting there: \nParking may be found near Lock Lane. \nMap coordinates: 52.917178\, -1.285162
URL:https://derbycanal.org.uk/event/working-party-sandiacre-20181205/
LOCATION:Sandiacre Lock\, 52.917083\, -1.285250
CATEGORIES:Working Party
END:VEVENT
BEGIN:VEVENT
DTSTART;TZID=Europe/London:20181202T093000
DTEND;TZID=Europe/London:20181202T130000
DTSTAMP:20260423T105353
CREATED:20170819T155941Z
LAST-MODIFIED:20181029T163832Z
UID:4938-1543743000-1543755600@derbycanal.org.uk
SUMMARY:Working Party - Spondon
DESCRIPTION:Spondon – Canal Restoration \nWork Description: \nCome and lend a hand with our restoration of Canal Line at Spondon. \nTo Bring: A Smile\,refreshments\, stout shoes\, other useful tools. \nHS&E requirements: \nSturdy boots and gloves are recommended \nGetting there: \nMap coordinates:-   TBD – expected to meet near the Canal turn pub.
URL:https://derbycanal.org.uk/event/working-party-spondon-20181202/
CATEGORIES:Working Party
END:VEVENT
BEGIN:VEVENT
DTSTART;TZID=Europe/London:20181128T093000
DTEND;TZID=Europe/London:20181128T130000
DTSTAMP:20260423T105353
CREATED:20170816T175905Z
LAST-MODIFIED:20181029T163634Z
UID:4934-1543397400-1543410000@derbycanal.org.uk
SUMMARY:Working Party - Sandiacre
DESCRIPTION:Derby Canal at Sandiacre Lock \nWork Description: \nThe work will include clearing vegetation and grass cutting to maintain the area ahead of future restoration of the lock. \nHS&E requirements: \nSturdy Boots and gloves are recommended. \nGetting there: \nParking may be found near Lock Lane. \nMap coordinates: 52.917178\, -1.285162
URL:https://derbycanal.org.uk/event/working-party-sandiacre-20181128/
LOCATION:Sandiacre Lock\, 52.917083\, -1.285250
CATEGORIES:Working Party
END:VEVENT
BEGIN:VEVENT
DTSTART;TZID=Europe/London:20181127T193000
DTEND;TZID=Europe/London:20181127T213000
DTSTAMP:20260423T105353
CREATED:20171006T185326Z
LAST-MODIFIED:20171030T084028Z
UID:3642-1543347000-1543354200@derbycanal.org.uk
SUMMARY:Society Social Meeting - Talk
DESCRIPTION:John Lower – ” The Dawn Rose\, Chesterfield Canal”\nFurther details to be announced closer to the time. \n 
URL:https://derbycanal.org.uk/event/society-social-meeting-20181127/
LOCATION:Wilmot Arms\, Derby Road\, Borrowash\, Derby\, Derbyshire\, DE72 3HA\, United Kingdom
CATEGORIES:Trust Social
END:VEVENT
BEGIN:VEVENT
DTSTART;TZID=Europe/London:20181125T093000
DTEND;TZID=Europe/London:20181125T130000
DTSTAMP:20260423T105353
CREATED:20170819T155941Z
LAST-MODIFIED:20181029T163533Z
UID:4932-1543138200-1543150800@derbycanal.org.uk
SUMMARY:Working Party - Spondon
DESCRIPTION:Spondon – Canal Restoration \nWork Description: \nCome and lend a hand with our restoration of Canal Line at Spondon. \nPlease note – there will be a 2 minute silence at 11am for Remembrance Sunday. \nTo Bring: A Smile\,refreshments\, stout shoes\, other useful tools. \nHS&E requirements: \nSturdy boots and gloves are recommended \nGetting there: \nMap coordinates:-   TBD – expected to meet near the Canal turn pub.
URL:https://derbycanal.org.uk/event/working-party-spondon-20181125/
CATEGORIES:Working Party
END:VEVENT
BEGIN:VEVENT
DTSTART;TZID=Europe/London:20181121T093000
DTEND;TZID=Europe/London:20181121T130000
DTSTAMP:20260423T105353
CREATED:20170816T175905Z
LAST-MODIFIED:20181029T163158Z
UID:4925-1542792600-1542805200@derbycanal.org.uk
SUMMARY:Working Party - Sandiacre
DESCRIPTION:Derby Canal at Sandiacre Lock \nWork Description: \nThe work will include clearing vegetation and grass cutting to maintain the area ahead of future restoration of the lock. \nHS&E requirements: \nSturdy Boots and gloves are recommended. \nGetting there: \nParking may be found near Lock Lane. \nMap coordinates: 52.917178\, -1.285162
URL:https://derbycanal.org.uk/event/working-party-sandiacre-20181121/
LOCATION:Sandiacre Lock\, 52.917083\, -1.285250
CATEGORIES:Working Party
END:VEVENT
BEGIN:VEVENT
DTSTART;TZID=Europe/London:20181118T093000
DTEND;TZID=Europe/London:20181118T130000
DTSTAMP:20260423T105353
CREATED:20170819T155941Z
LAST-MODIFIED:20181029T163025Z
UID:4923-1542533400-1542546000@derbycanal.org.uk
SUMMARY:Working Party - Spondon
DESCRIPTION:Spondon – Canal Restoration \nWork Description: \nCome and lend a hand with our restoration of Canal Line at Spondon. \nPlease note – there will be a 2 minute silence at 11am for Remembrance Sunday. \nTo Bring: A Smile\,refreshments\, stout shoes\, other useful tools. \nHS&E requirements: \nSturdy boots and gloves are recommended \nGetting there: \nMap coordinates:-   TBD – expected to meet near the Canal turn pub.
URL:https://derbycanal.org.uk/event/working-party-spondon-20181118/
CATEGORIES:Working Party
END:VEVENT
BEGIN:VEVENT
DTSTART;TZID=Europe/London:20181114T193000
DTEND;TZID=Europe/London:20181114T213000
DTSTAMP:20260423T105353
CREATED:20181029T171255Z
LAST-MODIFIED:20181029T173000Z
UID:4968-1542223800-1542231000@derbycanal.org.uk
SUMMARY:Sandiacre Public Event - D&SC Trust & Leedale - Lock Dig-Out
DESCRIPTION:Derby and Sandiacre Canal Trust’s long term aim is to restore the canal from Lock Lane\, Sandiacre to Swarkestone via Derby. \nWe have now acquired the stretch of canal path from Lock Lane to Bostocks Lane and the first stage to restoration will be to empty the lock chamber by Lock Lane bridge. This chamber has been used in the past as a landfill site and we have therefore contracted with Leedale to undertake this work on our behalf during the week commencing 3rd December. \nWe recognise that this will inconvenience residents as the spoil will be transported along Lock Lane between 8am and 5pm each day. We will therefore be asking residents not to park on Lock Lane during these hours. Residents living between our canal path and the Erewash Canal will have severely restricted access over Lock Lane Bridge. \nWe would like to invite all interested parties to a public meeting where we can ensure we minimise any inconvenience and complete the work as quickly as possible. Attendees will be able to talk to a director of the contractor Leedale and to directors of the Derby and Sandiacre Canal Trust about this work and progress on the larger restoration project. \nIf you cannot attend questions can be sent to info@derbycanal.org.uk
URL:https://derbycanal.org.uk/event/sandiacre-public-event-dsc-trust-leedale-lock-dig-out/
LOCATION:The Bridge Inn\, Sandiacre\, 52.914577\, -1.290304
CATEGORIES:Other Events
ATTACH;FMTTYPE=image/jpeg:https://derbycanal.org.uk/wp-content/uploads/2017/12/SSA56390.jpg
END:VEVENT
BEGIN:VEVENT
DTSTART;TZID=Europe/London:20181114T193000
DTEND;TZID=Europe/London:20181114T213000
DTSTAMP:20260423T105353
CREATED:20171007T100549Z
LAST-MODIFIED:20180424T170911Z
UID:4505-1542223800-1542231000@derbycanal.org.uk
SUMMARY:Executive Group Meeting
DESCRIPTION:Executive Group Meeting\nThe Executive Group is drawn from co-opted members from the Trust Board and enthusiasts brought together to further the restoration. The members bring a range of expertise and experience to the table to enable the body to address the many varied issues that arise.
URL:https://derbycanal.org.uk/event/executive-group-meeting-20181114/
LOCATION:Spondon Village Hall\, Sitwell Street\, Derby\, Derbyshire\, DE21 7FG\, United Kingdom
CATEGORIES:Development Group
END:VEVENT
BEGIN:VEVENT
DTSTART;TZID=Europe/London:20181114T093000
DTEND;TZID=Europe/London:20181114T130000
DTSTAMP:20260423T105353
CREATED:20170816T175905Z
LAST-MODIFIED:20181029T162447Z
UID:4917-1542187800-1542200400@derbycanal.org.uk
SUMMARY:Working Party - Sandiacre
DESCRIPTION:Derby Canal at Sandiacre Lock \nWork Description: \nThe work will include clearing vegetation and grass cutting to maintain the area ahead of future restoration of the lock. \nHS&E requirements: \nSturdy Boots and gloves are recommended. \nGetting there: \nParking may be found near Lock Lane. \nMap coordinates: 52.917178\, -1.285162
URL:https://derbycanal.org.uk/event/working-party-sandiacre-20181114/
LOCATION:Sandiacre Lock\, 52.917083\, -1.285250
CATEGORIES:Working Party
END:VEVENT
BEGIN:VEVENT
DTSTART;TZID=Europe/London:20181112T193000
DTEND;TZID=Europe/London:20181112T220000
DTSTAMP:20260423T105353
CREATED:20170927T210335Z
LAST-MODIFIED:20171216T155630Z
UID:4229-1542051000-1542060000@derbycanal.org.uk
SUMMARY:Society Committee Meeting
DESCRIPTION:Held the 2nd Monday of every Month\, the society committee meets to discuss progress made\, upcoming plans and any new opportunities! \nMembers are welcome to attend as observers\, please contact coordinator@derbycanal.org.uk for details.
URL:https://derbycanal.org.uk/event/society-committee-meeting-20181112/
END:VEVENT
BEGIN:VEVENT
DTSTART;TZID=Europe/London:20181111T093000
DTEND;TZID=Europe/London:20181111T130000
DTSTAMP:20260423T105353
CREATED:20170819T155941Z
LAST-MODIFIED:20181029T162926Z
UID:4915-1541928600-1541941200@derbycanal.org.uk
SUMMARY:Working Party - Spondon
DESCRIPTION:Spondon – Canal Restoration \nWork Description: \nCome and lend a hand with our restoration of Canal Line at Spondon. \nPlease note – there will be a 2 minute silence at 11am for Remembrance Sunday. \nTo Bring: A Smile\,refreshments\, stout shoes\, other useful tools. \nHS&E requirements: \nSturdy boots and gloves are recommended \nGetting there: \nMap coordinates:-   TBD – expected to meet near the Canal turn pub.
URL:https://derbycanal.org.uk/event/working-party-spondon-20181111/
CATEGORIES:Working Party
END:VEVENT
BEGIN:VEVENT
DTSTART;TZID=Europe/London:20181107T093000
DTEND;TZID=Europe/London:20181107T130000
DTSTAMP:20260423T105353
CREATED:20170816T175905Z
LAST-MODIFIED:20181029T161919Z
UID:4911-1541583000-1541595600@derbycanal.org.uk
SUMMARY:Working Party - Sandiacre
DESCRIPTION:Derby Canal at Sandiacre Lock \nWork Description: \nThe work will include clearing vegetation and grass cutting to maintain the area ahead of future restoration of the lock. \nHS&E requirements: \nSturdy Boots and gloves are recommended. \nGetting there: \nParking may be found near Lock Lane. \nMap coordinates: 52.917178\, -1.285162
URL:https://derbycanal.org.uk/event/working-party-sandiacre-20181107/
LOCATION:Sandiacre Lock\, 52.917083\, -1.285250
CATEGORIES:Working Party
END:VEVENT
BEGIN:VEVENT
DTSTART;TZID=Europe/London:20181031T093000
DTEND;TZID=Europe/London:20181031T130000
DTSTAMP:20260423T105353
CREATED:20170816T175905Z
LAST-MODIFIED:20180913T200937Z
UID:4843-1540978200-1540990800@derbycanal.org.uk
SUMMARY:Working Party - Sandiacre
DESCRIPTION:Derby Canal at Sandiacre Lock \nWork Description: \nThe work will include clearing vegetation and grass cutting to maintain the area ahead of future restoration of the lock. \nHS&E requirements: \nSturdy Boots and gloves are recommended. \nGetting there: \nParking may be found near Lock Lane. \nMap coordinates: 52.917178\, -1.285162
URL:https://derbycanal.org.uk/event/working-party-sandiacre-20181031/
LOCATION:Sandiacre Lock\, 52.917083\, -1.285250
CATEGORIES:Working Party
END:VEVENT
BEGIN:VEVENT
DTSTART;TZID=Europe/London:20181028T093000
DTEND;TZID=Europe/London:20181028T130000
DTSTAMP:20260423T105353
CREATED:20170816T175905Z
LAST-MODIFIED:20180913T200850Z
UID:4840-1540719000-1540731600@derbycanal.org.uk
SUMMARY:Working Party - Sandiacre
DESCRIPTION:Derby Canal at Sandiacre Lock \nWork Description: \nThe work will include clearing vegetation and grass cutting to maintain the area ahead of future restoration of the lock. \nHS&E requirements: \nSturdy Boots and gloves are recommended. \nGetting there: \nParking may be found near Lock Lane. \nMap coordinates: 52.917178\, -1.285162
URL:https://derbycanal.org.uk/event/working-party-sandiacre-20181028/
LOCATION:Sandiacre Lock\, 52.917083\, -1.285250
CATEGORIES:Working Party
END:VEVENT
BEGIN:VEVENT
DTSTART;TZID=Europe/London:20181024T193000
DTEND;TZID=Europe/London:20181024T213000
DTSTAMP:20260423T105353
CREATED:20171007T100549Z
LAST-MODIFIED:20180424T170800Z
UID:4483-1540409400-1540416600@derbycanal.org.uk
SUMMARY:Executive Group Meeting
DESCRIPTION:Executive Group Meeting\nThe Executive Group is drawn from co-opted members from the Trust Board and enthusiasts brought together to further the restoration. The members bring a range of expertise and experience to the table to enable the body to address the many varied issues that arise.
URL:https://derbycanal.org.uk/event/executive-group-meeting-20181024/
LOCATION:Spondon Village Hall\, Sitwell Street\, Derby\, Derbyshire\, DE21 7FG\, United Kingdom
CATEGORIES:Development Group
END:VEVENT
BEGIN:VEVENT
DTSTART;TZID=Europe/London:20181024T093000
DTEND;TZID=Europe/London:20181024T130000
DTSTAMP:20260423T105353
CREATED:20170816T175905Z
LAST-MODIFIED:20180913T200620Z
UID:4835-1540373400-1540386000@derbycanal.org.uk
SUMMARY:Working Party - Sandiacre
DESCRIPTION:Derby Canal at Sandiacre Lock \nWork Description: \nThe work will include clearing vegetation and grass cutting to maintain the area ahead of future restoration of the lock. \nHS&E requirements: \nSturdy Boots and gloves are recommended. \nGetting there: \nParking may be found near Lock Lane. \nMap coordinates: 52.917178\, -1.285162
URL:https://derbycanal.org.uk/event/working-party-sandiacre-20181024/
LOCATION:Sandiacre Lock\, 52.917083\, -1.285250
CATEGORIES:Working Party
END:VEVENT
END:VCALENDAR