BEGIN:VCALENDAR
VERSION:2.0
PRODID:-//Derby and Sandiacre Canal Trust - ECPv6.15.20//NONSGML v1.0//EN
CALSCALE:GREGORIAN
METHOD:PUBLISH
X-WR-CALNAME:Derby and Sandiacre Canal Trust
X-ORIGINAL-URL:https://derbycanal.org.uk
X-WR-CALDESC:Events for Derby and Sandiacre Canal Trust
REFRESH-INTERVAL;VALUE=DURATION:PT1H
X-Robots-Tag:noindex
X-PUBLISHED-TTL:PT1H
BEGIN:VTIMEZONE
TZID:Europe/London
BEGIN:DAYLIGHT
TZOFFSETFROM:+0000
TZOFFSETTO:+0100
TZNAME:BST
DTSTART:20160327T010000
END:DAYLIGHT
BEGIN:STANDARD
TZOFFSETFROM:+0100
TZOFFSETTO:+0000
TZNAME:GMT
DTSTART:20161030T010000
END:STANDARD
BEGIN:DAYLIGHT
TZOFFSETFROM:+0000
TZOFFSETTO:+0100
TZNAME:BST
DTSTART:20170326T010000
END:DAYLIGHT
BEGIN:STANDARD
TZOFFSETFROM:+0100
TZOFFSETTO:+0000
TZNAME:GMT
DTSTART:20171029T010000
END:STANDARD
BEGIN:DAYLIGHT
TZOFFSETFROM:+0000
TZOFFSETTO:+0100
TZNAME:BST
DTSTART:20180325T010000
END:DAYLIGHT
BEGIN:STANDARD
TZOFFSETFROM:+0100
TZOFFSETTO:+0000
TZNAME:GMT
DTSTART:20181028T010000
END:STANDARD
BEGIN:DAYLIGHT
TZOFFSETFROM:+0000
TZOFFSETTO:+0100
TZNAME:BST
DTSTART:20190331T010000
END:DAYLIGHT
BEGIN:STANDARD
TZOFFSETFROM:+0100
TZOFFSETTO:+0000
TZNAME:GMT
DTSTART:20191027T010000
END:STANDARD
END:VTIMEZONE
BEGIN:VEVENT
DTSTART;TZID=Europe/London:20180420T093000
DTEND;TZID=Europe/London:20180420T130000
DTSTAMP:20260423T232620
CREATED:20170819T155941Z
LAST-MODIFIED:20180413T115824Z
UID:4466-1524216600-1524229200@derbycanal.org.uk
SUMMARY:Working Fridays - Draycott
DESCRIPTION:Working Fridays – Draycott – Canal Cottages Restoration \nWork Description: \nCome and lend a hand with our restoration of the Coop Cottages (formally called the ‘Canal Cottages’ in the 19th Century). \nCurrently\, we are performing site clearance\, but have also progressed onto the more complicated building works for the canal cottage restoration. \nTo Bring: A Smile\, refreshments\, stout shoes\, hand held cutters/rake\, other handheld tools that may be useful. \nHS&E requirements: \nFull PPE required – it is a working building site. \nHard Hats will be provided. Steel toe cap boots or equivalent is required. \nGetting there: \nHopwell Road end     Map coordinates:-    52.902025\, -1.344084
URL:https://derbycanal.org.uk/event/working-party-draycott-20180420/
LOCATION:Canal Cottages\, Draycott\, Hopwell Road\, Draycott\, Derbyshire\, United Kingdom
CATEGORIES:Working Party
END:VEVENT
BEGIN:VEVENT
DTSTART;TZID=Europe/London:20180418T193000
DTEND;TZID=Europe/London:20180418T213000
DTSTAMP:20260423T232620
CREATED:20171007T100549Z
LAST-MODIFIED:20180424T165918Z
UID:4492-1524079800-1524087000@derbycanal.org.uk
SUMMARY:Executive Group Meeting
DESCRIPTION:Executive Group Meeting\nThe Executive Group is drawn from co-opted members from the Trust Board and enthusiasts brought together to further the restoration. The members bring a range of expertise and experience to the table to enable the body to address the many varied issues that arise.
URL:https://derbycanal.org.uk/event/executive-group-meeting-20180418/
LOCATION:Spondon Village Hall\, Sitwell Street\, Derby\, Derbyshire\, DE21 7FG\, United Kingdom
CATEGORIES:Development Group
END:VEVENT
BEGIN:VEVENT
DTSTART;TZID=Europe/London:20180418T193000
DTEND;TZID=Europe/London:20180418T213000
DTSTAMP:20260423T232620
CREATED:20171007T095643Z
LAST-MODIFIED:20171007T100053Z
UID:3665-1524079800-1524087000@derbycanal.org.uk
SUMMARY:Trust Board Meeting
DESCRIPTION:Trust Board Meeting\nThe Trust Board meets quarterly to receive reports from officers\, the Trust Executive Group and the Society. \nThe Trust Board has delegated limited powers to the Executive Group to manage the day to day business of the Trust\, but all expenditure and commitments are approved by the Trust Board. \nMeetings are open to the public.
URL:https://derbycanal.org.uk/event/trust-board-meeting-2-2/
LOCATION:Chequers Inn\, 10 Main Street\, Breaston\, Derby\, Derbyshire\, DE72 3DX\, United Kingdom
CATEGORIES:Trustee Board
END:VEVENT
BEGIN:VEVENT
DTSTART;TZID=Europe/London:20180416T193000
DTEND;TZID=Europe/London:20180416T220000
DTSTAMP:20260423T232620
CREATED:20170927T210335Z
LAST-MODIFIED:20180404T211524Z
UID:4173-1523907000-1523916000@derbycanal.org.uk
SUMMARY:Society Committee Meeting
DESCRIPTION:Normally held the 2nd Monday of every Month (expect this time\, which is the 3rd Monday!)\, the society committee meets to discuss progress made\, upcoming plans and any new opportunities! \nMembers are welcome to attend as observers\, please contact coordinator@derbycanal.org.uk for details.
URL:https://derbycanal.org.uk/event/society-committee-meeting-20180409/
END:VEVENT
BEGIN:VEVENT
DTSTART;TZID=Europe/London:20180413T093000
DTEND;TZID=Europe/London:20180413T130000
DTSTAMP:20260423T232620
CREATED:20170819T155941Z
LAST-MODIFIED:20180413T115552Z
UID:4460-1523611800-1523624400@derbycanal.org.uk
SUMMARY:Working Fridays - Draycott
DESCRIPTION:Working Fridays – Draycott – Canal Cottages Restoration \nWork Description: \nAfter volunteer feedback we’ve decided to go with Working Fridays rather than Thursdays. \nWe hope Working Fridays will become a regular feature of the D&SC Trust Calendar going forward! \nCome and lend a hand with our restoration of the Coop Cottages (formally called the ‘Canal Cottages’ in the 19th Century). \nCurrently\, we are performing site clearance\, but have also progressed onto the more complicated building works for the canal cottage restoration. \nTo Bring: A Smile\, refreshments\, stout shoes\, hand held cutters/rake\, other handheld tools that may be useful. \nHS&E requirements: \nFull PPE required – it is a working building site. \nHard Hats will be provided. Steel toe cap boots or equivalent is required. \nGetting there: \nHopwell Road end     Map coordinates:-    52.902025\, -1.344084
URL:https://derbycanal.org.uk/event/working-party-draycott-20180413/
LOCATION:Canal Cottages\, Draycott\, Hopwell Road\, Draycott\, Derbyshire\, United Kingdom
CATEGORIES:Working Party
END:VEVENT
BEGIN:VEVENT
DTSTART;TZID=Europe/London:20180405T093000
DTEND;TZID=Europe/London:20180405T130000
DTSTAMP:20260423T232620
CREATED:20170819T155941Z
LAST-MODIFIED:20180404T212217Z
UID:4448-1522920600-1522933200@derbycanal.org.uk
SUMMARY:Working Thursdays - Draycott
DESCRIPTION:Working Thursdays – Draycott – Canal Cottages Restoration \nWork Description: \nWe hope “Working Thursdays” will become a regular feature of the D&SC Trust Calendar going forward! \nCome and lend a hand with our restoration of the Coop Cottages (formally called the ‘Canal Cottages’ in the 19th Century). \nCurrently\, we are performing site clearance\, but have also progressed onto the more complicated building works for the canal cottage restoration. \nTo Bring: A Smile\, refreshments\, stout shoes\, hand held cutters/rake\, other handheld tools that may be useful \nHS&E requirements: \nFull PPE required – it is a working building site. \nHard Hats will be provided. Steel toe cap boots or equivalent is required. \nGetting there: \nHopwell Road end     Map coordinates:-    52.902025\, -1.344084
URL:https://derbycanal.org.uk/event/working-party-draycott-20180405/
LOCATION:Canal Cottages\, Draycott\, Hopwell Road\, Draycott\, Derbyshire\, United Kingdom
CATEGORIES:Working Party
END:VEVENT
BEGIN:VEVENT
DTSTART;TZID=Europe/London:20180328T193000
DTEND;TZID=Europe/London:20180328T213000
DTSTAMP:20260423T232620
CREATED:20171007T100549Z
LAST-MODIFIED:20171216T144516Z
UID:4108-1522265400-1522272600@derbycanal.org.uk
SUMMARY:Executive Group Meeting
DESCRIPTION:Executive Group Meeting\nThe Executive Group is drawn from co-opted members from the Trust Board and enthusiasts brought together to further the restoration. The members bring a range of expertise and experience to the table to enable the body to address the many varied issues that arise.
URL:https://derbycanal.org.uk/event/executive-group-meeting-20180307-2/
LOCATION:Spondon Village Hall\, Sitwell Street\, Derby\, Derbyshire\, DE21 7FG\, United Kingdom
CATEGORIES:Development Group
END:VEVENT
BEGIN:VEVENT
DTSTART;TZID=Europe/London:20180327T193000
DTEND;TZID=Europe/London:20180327T213000
DTSTAMP:20260423T232620
CREATED:20171006T185326Z
LAST-MODIFIED:20180313T165823Z
UID:3630-1522179000-1522186200@derbycanal.org.uk
SUMMARY:Society Social Meeting - Talk
DESCRIPTION:Ashley Franklin – “My Derbyshire Life”\nFurther details to be announced closer to the time. \n 
URL:https://derbycanal.org.uk/event/society-social-meeting-2-2-2-3/
LOCATION:Wilmot Arms\, Derby Road\, Borrowash\, Derby\, Derbyshire\, DE72 3HA\, United Kingdom
CATEGORIES:Trust Social
END:VEVENT
BEGIN:VEVENT
DTSTART;TZID=Europe/London:20180318T093000
DTEND;TZID=Europe/London:20180318T130000
DTSTAMP:20260423T232620
CREATED:20170819T155941Z
LAST-MODIFIED:20180313T165544Z
UID:4426-1521365400-1521378000@derbycanal.org.uk
SUMMARY:Working Parties - Draycott & Sandiacre
DESCRIPTION:Draycott & Sandiacre – Scrub Clearing\nWork Description: \nToday we’re split between scrub clearing at Draycott and Sandiacre. \nIf unsure\, please meet at Draycott and we can allocate responsibilities between the two sites from there. \nTo Bring: A Smile\,refreshments\, stout shoes\, hand held cutters/rake. \nHS&E requirements: \nDraycott: Full PPE required – it is a working building site. Hard Hats will be provided. Steel toe cap boots or equivalent is required. \nSandiacre: None\, but sensible shoes/boots and clothing suitable for the weather is essential. \nGetting there: \nDraycott: – Hopwell Road end     Map coordinates:-    52.902025\, -1.344084 \nSandiacre:- Lock Lane    Map coordinates:-    52.917102\, -1.284950
URL:https://derbycanal.org.uk/event/working-party-draycott-20180318/
LOCATION:Canal Cottages\, Draycott\, Hopwell Road\, Draycott\, Derbyshire\, United Kingdom
CATEGORIES:Working Party
END:VEVENT
BEGIN:VEVENT
DTSTART;TZID=Europe/London:20180312T193000
DTEND;TZID=Europe/London:20180312T220000
DTSTAMP:20260423T232620
CREATED:20170927T210335Z
LAST-MODIFIED:20171216T152037Z
UID:3449-1520883000-1520892000@derbycanal.org.uk
SUMMARY:Society Committee Meeting
DESCRIPTION:Held the 2nd Monday of every Month\, the society committee meets to discuss progress made\, upcoming plans and any new opportunities! \nMembers are welcome to attend as observers\, please contact coordinator@derbycanal.org.uk for details.
URL:https://derbycanal.org.uk/event/society-committee-meeting-20180312/
END:VEVENT
BEGIN:VEVENT
DTSTART;TZID=Europe/London:20180307T193000
DTEND;TZID=Europe/London:20180307T213000
DTSTAMP:20260423T232620
CREATED:20171007T100549Z
LAST-MODIFIED:20171216T144238Z
UID:4105-1520451000-1520458200@derbycanal.org.uk
SUMMARY:Executive Group Meeting
DESCRIPTION:Executive Group Meeting\nThe Executive Group is drawn from co-opted members from the Trust Board and enthusiasts brought together to further the restoration. The members bring a range of expertise and experience to the table to enable the body to address the many varied issues that arise.
URL:https://derbycanal.org.uk/event/executive-group-meeting-20180307/
LOCATION:TBD
CATEGORIES:Development Group
END:VEVENT
BEGIN:VEVENT
DTSTART;TZID=Europe/London:20180227T193000
DTEND;TZID=Europe/London:20180227T213000
DTSTAMP:20260423T232620
CREATED:20171006T185326Z
LAST-MODIFIED:20171006T214253Z
UID:3627-1519759800-1519767000@derbycanal.org.uk
SUMMARY:Society Social Meeting - Talk
DESCRIPTION:Richard Binding – “Railway Images around Long Eaton and the East Midlands 1960’s – 1990’s “\nFurther details to be announced closer to the time. \n 
URL:https://derbycanal.org.uk/event/society-social-meeting-2-2-2-2/
LOCATION:Wilmot Arms\, Derby Road\, Borrowash\, Derby\, Derbyshire\, DE72 3HA\, United Kingdom
CATEGORIES:Trust Social
END:VEVENT
BEGIN:VEVENT
DTSTART;TZID=Europe/London:20180214T193000
DTEND;TZID=Europe/London:20180214T213000
DTSTAMP:20260423T232620
CREATED:20171007T100549Z
LAST-MODIFIED:20171216T144420Z
UID:4109-1518636600-1518643800@derbycanal.org.uk
SUMMARY:Executive Group Meeting
DESCRIPTION:Executive Group Meeting\nThe Executive Group is drawn from co-opted members from the Trust Board and enthusiasts brought together to further the restoration. The members bring a range of expertise and experience to the table to enable the body to address the many varied issues that arise.
URL:https://derbycanal.org.uk/event/executive-group-meeting-20180214/
LOCATION:TBD
CATEGORIES:Development Group
END:VEVENT
BEGIN:VEVENT
DTSTART;TZID=Europe/London:20180212T193000
DTEND;TZID=Europe/London:20180212T220000
DTSTAMP:20260423T232620
CREATED:20170927T210335Z
LAST-MODIFIED:20171216T151943Z
UID:3448-1518463800-1518472800@derbycanal.org.uk
SUMMARY:Society Committee Meeting
DESCRIPTION:Held the 2nd Monday of every Month\, the society committee meets to discuss progress made\, upcoming plans and any new opportunities! \nMembers are welcome to attend as observers\, please contact coordinator@derbycanal.org.uk for details.
URL:https://derbycanal.org.uk/event/society-committee-meeting-20180212/
END:VEVENT
BEGIN:VEVENT
DTSTART;TZID=Europe/London:20180124T193000
DTEND;TZID=Europe/London:20180124T213000
DTSTAMP:20260423T232620
CREATED:20171007T100549Z
LAST-MODIFIED:20171216T144051Z
UID:4103-1516822200-1516829400@derbycanal.org.uk
SUMMARY:Executive Group Meeting
DESCRIPTION:Executive Group Meeting\nThe Executive Group is drawn from co-opted members from the Trust Board and enthusiasts brought together to further the restoration. The members bring a range of expertise and experience to the table to enable the body to address the many varied issues that arise.
URL:https://derbycanal.org.uk/event/executive-group-meeting-20180124/
LOCATION:Spondon Village Hall\, Sitwell Street\, Derby\, Derbyshire\, DE21 7FG\, United Kingdom
CATEGORIES:Development Group
END:VEVENT
BEGIN:VEVENT
DTSTART;TZID=Europe/London:20180123T193000
DTEND;TZID=Europe/London:20180123T213000
DTSTAMP:20260423T232620
CREATED:20171006T185326Z
LAST-MODIFIED:20171006T191127Z
UID:3622-1516735800-1516743000@derbycanal.org.uk
SUMMARY:Society Social Meeting - Talk
DESCRIPTION:Chris Madge – ‘The latest progress and update on the Derby Canal’\nFurther details to be announced closer to the time. \n 
URL:https://derbycanal.org.uk/event/society-social-meeting-2-2/
LOCATION:Wilmot Arms\, Derby Road\, Borrowash\, Derby\, Derbyshire\, DE72 3HA\, United Kingdom
CATEGORIES:Trust Social
END:VEVENT
BEGIN:VEVENT
DTSTART;TZID=Europe/London:20180121T093000
DTEND;TZID=Europe/London:20180121T130000
DTSTAMP:20260423T232620
CREATED:20170819T155941Z
LAST-MODIFIED:20171231T113542Z
UID:4263-1516527000-1516539600@derbycanal.org.uk
SUMMARY:Working Party - Golden Mile
DESCRIPTION:Draycott – Hedge Works \nWork Description: \nCome and lend a hand with our maintenance of the hedgerows along the “Golden Mile” at Draycott. \nTo Bring: A Smile\,refreshments\, stout shoes\, hand held cutters/rake. \nHS&E requirements: \nSturdy shoes are recommended. \nGetting there: \nHopwell Road end     Map coordinates:-    52.902025\, -1.344084
URL:https://derbycanal.org.uk/event/working-party-draycott-20180121/
LOCATION:Canal Cottages\, Draycott\, Hopwell Road\, Draycott\, Derbyshire\, United Kingdom
CATEGORIES:Working Party
END:VEVENT
BEGIN:VEVENT
DTSTART;TZID=Europe/London:20180117T193000
DTEND;TZID=Europe/London:20180117T213000
DTSTAMP:20260423T232620
CREATED:20171007T095643Z
LAST-MODIFIED:20171007T100006Z
UID:3663-1516217400-1516224600@derbycanal.org.uk
SUMMARY:Trust Board Meeting
DESCRIPTION:Trust Board Meeting\nThe Trust Board meets quarterly to receive reports from officers\, the Trust Executive Group and the Society. \nThe Trust Board has delegated limited powers to the Executive Group to manage the day to day business of the Trust\, but all expenditure and commitments are approved by the Trust Board. \nMeetings are open to the public.
URL:https://derbycanal.org.uk/event/trust-board-meeting-2/
LOCATION:Chequers Inn\, 10 Main Street\, Breaston\, Derby\, Derbyshire\, DE72 3DX\, United Kingdom
CATEGORIES:Trustee Board
END:VEVENT
BEGIN:VEVENT
DTSTART;TZID=Europe/London:20180114T123000
DTEND;TZID=Europe/London:20180114T150000
DTSTAMP:20260423T232620
CREATED:20171231T112043Z
LAST-MODIFIED:20171231T112210Z
UID:4247-1515933000-1515942000@derbycanal.org.uk
SUMMARY:Fund-Raising Sunday Lunch
DESCRIPTION:Now we have completed Christmas and a New Year is upon us\, we are holding a Sunday Lunch fundraiser at the Coach and Horses in Draycott. \nThere will be a two course traditional Sunday Lunch with a choice of two desserts to follow – the main course will be a platter of meats with all the usual trimmings. \nCost will be £15.00 per person and we will be holding a raffle to raise even more funds for the dig out of the first stretch. \nWe have 30 places available on a first come first served basis\, lunch will from 12.30 on the 14th January. \nPlease let Eddy know if you would like to attend and to book your seats – any offers of prizes for the raffle would also be more than welcome.
URL:https://derbycanal.org.uk/event/fund-raising-lunch/
LOCATION:Coach & Horses\, Victoria Rd\, Draycott\, Derby\, Derbyshire\, DE72 3PS\, United Kingdom
CATEGORIES:Other Events
END:VEVENT
BEGIN:VEVENT
DTSTART;TZID=Europe/London:20180108T193000
DTEND;TZID=Europe/London:20180108T220000
DTSTAMP:20260423T232620
CREATED:20170927T210335Z
LAST-MODIFIED:20170927T211249Z
UID:3447-1515439800-1515448800@derbycanal.org.uk
SUMMARY:Society Committee Meeting
DESCRIPTION:Held the 2nd Monday of every Month\, the society committee meets to discuss progress made\, upcoming plans and any new opportunities! \nMembers are welcome to attend as observers\, please contact coordinator@derbycanal.org.uk for details.
URL:https://derbycanal.org.uk/event/society-committee-meeting-4/
END:VEVENT
BEGIN:VEVENT
DTSTART;TZID=Europe/London:20180107T093000
DTEND;TZID=Europe/London:20180107T130000
DTSTAMP:20260423T232620
CREATED:20170819T155941Z
LAST-MODIFIED:20171231T113426Z
UID:4262-1515317400-1515330000@derbycanal.org.uk
SUMMARY:Working Party - Golden Mile
DESCRIPTION:Draycott – Hedge Works \nWork Description: \nCome and lend a hand with our maintenance of the hedgerows along the “Golden Mile” at Draycott. \nTo Bring: A Smile\,refreshments\, stout shoes\, hand held cutters/rake. \nHS&E requirements: \nSturdy shoes are recommended. \nGetting there: \nHopwell Road end     Map coordinates:-    52.902025\, -1.344084
URL:https://derbycanal.org.uk/event/working-party-golden-mile-20180107/
LOCATION:Canal Cottages\, Draycott\, Hopwell Road\, Draycott\, Derbyshire\, United Kingdom
CATEGORIES:Working Party
END:VEVENT
BEGIN:VEVENT
DTSTART;TZID=Europe/London:20180103T193000
DTEND;TZID=Europe/London:20180103T213000
DTSTAMP:20260423T232620
CREATED:20171007T100549Z
LAST-MODIFIED:20171216T143943Z
UID:4100-1515007800-1515015000@derbycanal.org.uk
SUMMARY:Executive Group Meeting
DESCRIPTION:Executive Group Meeting\nThe Executive Group is drawn from co-opted members from the Trust Board and enthusiasts brought together to further the restoration. The members bring a range of expertise and experience to the table to enable the body to address the many varied issues that arise.
URL:https://derbycanal.org.uk/event/executive-group-meeting-20180103/
LOCATION:Chris Madge’s House
CATEGORIES:Development Group
END:VEVENT
BEGIN:VEVENT
DTSTART;TZID=Europe/London:20171211T193000
DTEND;TZID=Europe/London:20171211T220000
DTSTAMP:20260423T232620
CREATED:20170927T210335Z
LAST-MODIFIED:20170927T211146Z
UID:3446-1513020600-1513029600@derbycanal.org.uk
SUMMARY:Society Committee Meeting
DESCRIPTION:Held the 2nd Monday of every Month\, the society committee meets to discuss progress made\, upcoming plans and any new opportunities! \nMembers are welcome to attend as observers\, please contact coordinator@derbycanal.org.uk for details.
URL:https://derbycanal.org.uk/event/society-committee-meeting-3/
END:VEVENT
BEGIN:VEVENT
DTSTART;TZID=Europe/London:20171206T193000
DTEND;TZID=Europe/London:20171206T213000
DTSTAMP:20260423T232620
CREATED:20171007T100549Z
LAST-MODIFIED:20171129T213233Z
UID:4047-1512588600-1512595800@derbycanal.org.uk
SUMMARY:Executive Group Meeting
DESCRIPTION:Executive Group Meeting\nThe Executive Group is drawn from co-opted members from the Trust Board and enthusiasts brought together to further the restoration. The members bring a range of expertise and experience to the table to enable the body to address the many varied issues that arise.
URL:https://derbycanal.org.uk/event/executive-group-meeting-20171206/
LOCATION:Spondon Village Hall\, Sitwell Street\, Derby\, Derbyshire\, DE21 7FG\, United Kingdom
CATEGORIES:Development Group
END:VEVENT
BEGIN:VEVENT
DTSTART;TZID=Europe/London:20171205T170000
DTEND;TZID=Europe/London:20171205T200000
DTSTAMP:20260423T232620
CREATED:20171010T181547Z
LAST-MODIFIED:20171010T181622Z
UID:3760-1512493200-1512504000@derbycanal.org.uk
SUMMARY:Draycott Dickensian Christmas Market 2017
DESCRIPTION:
URL:https://derbycanal.org.uk/event/draycott-dickensian-christmas-market-2017/
LOCATION:St. Mary’s Church\, Draycott\, Victoria Road\, Draycott\, Derbyshire\, DE72 3PS\, United Kingdom
CATEGORIES:External Events
END:VEVENT
BEGIN:VEVENT
DTSTART;TZID=Europe/London:20171129T180000
DTEND;TZID=Europe/London:20171129T193000
DTSTAMP:20260423T232620
CREATED:20171007T100549Z
LAST-MODIFIED:20171007T101435Z
UID:3673-1511978400-1511983800@derbycanal.org.uk
SUMMARY:Executive Group Meeting
DESCRIPTION:Executive Group Meeting\nThe Executive Group is drawn from co-opted members from the Trust Board and enthusiasts brought together to further the restoration. The members bring a range of expertise and experience to the table to enable the body to address the many varied issues that arise.
URL:https://derbycanal.org.uk/event/executive-group-meeting-3/
LOCATION:Spondon Village Hall\, Sitwell Street\, Derby\, Derbyshire\, DE21 7FG\, United Kingdom
CATEGORIES:Development Group
END:VEVENT
BEGIN:VEVENT
DTSTART;TZID=Europe/London:20171128T193000
DTEND;TZID=Europe/London:20171128T213000
DTSTAMP:20260423T232620
CREATED:20171006T185326Z
LAST-MODIFIED:20171126T083914Z
UID:3617-1511897400-1511904600@derbycanal.org.uk
SUMMARY:Society Social Meeting - Talk
DESCRIPTION:Duncan Grewcock – ‘Restoration of Beeston Lock Cottages’\nThis is the final invitation of the year for our Society Social Meeting. \nOur speaker will be Duncan Grewcock from the Beeston Lock Cottage Project. He has been involved in the management team that restored the cottages. Their project is similar to our own cottage restoration work at Draycott and shows some of the challenges that were overcome and the impact that the successful completion has meant.  The old lock cottage at Beeston was restored using HLF funds and now operates successfully as a cafe with heritage. We had been in contact with the trustees there to get tips on our own project to restore our canal cottages at Draycott. We thought you’d like to see how they approached it and the lessons we can draw from their approach. \nFor more information on the Beeston Lock Cottage Project  prior to the meeting\, please see the below link: \nhttp://canalsideheritagecentre.org.uk/our-story \n 
URL:https://derbycanal.org.uk/event/society-social-meeting-2/
LOCATION:Wilmot Arms\, Derby Road\, Borrowash\, Derby\, Derbyshire\, DE72 3HA\, United Kingdom
CATEGORIES:Trust Social
END:VEVENT
BEGIN:VEVENT
DTSTART;TZID=Europe/London:20171122T190000
DTEND;TZID=Europe/London:20171122T210000
DTSTAMP:20260423T232620
CREATED:20171104T094906Z
LAST-MODIFIED:20171119T192519Z
UID:3972-1511377200-1511384400@derbycanal.org.uk
SUMMARY:CANCELLED - D&SC Trust - Borrowash Public Meeting
DESCRIPTION:Meeting no longer to be held – kept in Calendar to avoid confusion
URL:https://derbycanal.org.uk/event/canal-trust-talk-20171122/
CATEGORIES:Other Events
END:VEVENT
BEGIN:VEVENT
DTSTART;TZID=Europe/London:20171119T100000
DTEND;TZID=Europe/London:20171119T160000
DTSTAMP:20260423T232620
CREATED:20170819T155941Z
LAST-MODIFIED:20171116T220019Z
UID:3749-1511085600-1511107200@derbycanal.org.uk
SUMMARY:Draycott Open Day
DESCRIPTION:Draycott Open Day\nDescription: \nCome to Hopwell Road to see our progress on restoring the Canal Cottages. There will be a marquee\, information displays and a licensed refreshment bar. \nYou can: \n\nSee some of the history of the building\nMeet the last residents\nLook at restoration plans\nLook around the site\n\nThere will also be accompanied access to the building itself – we’ll supply a hard hat if you come in sensible clothes and shoes. \nHS&E requirements: \nNone\, but sensible shoes recommended as it is a working building site! \nGetting there: \nHopwell Road end     Map coordinates:-    52.902025\, -1.344084
URL:https://derbycanal.org.uk/event/working-party-draycott-20171119/
LOCATION:Canal Cottages\, Draycott\, Hopwell Road\, Draycott\, Derbyshire\, United Kingdom
CATEGORIES:Working Party
END:VEVENT
BEGIN:VEVENT
DTSTART;TZID=Europe/London:20171113T193000
DTEND;TZID=Europe/London:20171113T220000
DTSTAMP:20260423T232620
CREATED:20170927T210335Z
LAST-MODIFIED:20170927T211100Z
UID:3445-1510601400-1510610400@derbycanal.org.uk
SUMMARY:Society Committee Meeting
DESCRIPTION:Held the 2nd Monday of every Month\, the society committee meets to discuss progress made\, upcoming plans and any new opportunities! \nMembers are welcome to attend as observers\, please contact coordinator@derbycanal.org.uk for details.
URL:https://derbycanal.org.uk/event/society-committee-meeting-2/
END:VEVENT
END:VCALENDAR