BEGIN:VCALENDAR
VERSION:2.0
PRODID:-//Derby and Sandiacre Canal Trust - ECPv6.15.20//NONSGML v1.0//EN
CALSCALE:GREGORIAN
METHOD:PUBLISH
X-WR-CALNAME:Derby and Sandiacre Canal Trust
X-ORIGINAL-URL:https://derbycanal.org.uk
X-WR-CALDESC:Events for Derby and Sandiacre Canal Trust
REFRESH-INTERVAL;VALUE=DURATION:PT1H
X-Robots-Tag:noindex
X-PUBLISHED-TTL:PT1H
BEGIN:VTIMEZONE
TZID:Europe/London
BEGIN:DAYLIGHT
TZOFFSETFROM:+0000
TZOFFSETTO:+0100
TZNAME:BST
DTSTART:20170326T010000
END:DAYLIGHT
BEGIN:STANDARD
TZOFFSETFROM:+0100
TZOFFSETTO:+0000
TZNAME:GMT
DTSTART:20171029T010000
END:STANDARD
BEGIN:DAYLIGHT
TZOFFSETFROM:+0000
TZOFFSETTO:+0100
TZNAME:BST
DTSTART:20180325T010000
END:DAYLIGHT
BEGIN:STANDARD
TZOFFSETFROM:+0100
TZOFFSETTO:+0000
TZNAME:GMT
DTSTART:20181028T010000
END:STANDARD
BEGIN:DAYLIGHT
TZOFFSETFROM:+0000
TZOFFSETTO:+0100
TZNAME:BST
DTSTART:20190331T010000
END:DAYLIGHT
BEGIN:STANDARD
TZOFFSETFROM:+0100
TZOFFSETTO:+0000
TZNAME:GMT
DTSTART:20191027T010000
END:STANDARD
END:VTIMEZONE
BEGIN:VEVENT
DTSTART;TZID=Europe/London:20180822T193000
DTEND;TZID=Europe/London:20180822T213000
DTSTAMP:20260423T121732
CREATED:20171007T100549Z
LAST-MODIFIED:20180424T170531Z
UID:4486-1534966200-1534973400@derbycanal.org.uk
SUMMARY:Executive Group Meeting
DESCRIPTION:Executive Group Meeting\nThe Executive Group is drawn from co-opted members from the Trust Board and enthusiasts brought together to further the restoration. The members bring a range of expertise and experience to the table to enable the body to address the many varied issues that arise.
URL:https://derbycanal.org.uk/event/executive-group-meeting-20180822/
LOCATION:Spondon Village Hall\, Sitwell Street\, Derby\, Derbyshire\, DE21 7FG\, United Kingdom
CATEGORIES:Development Group
END:VEVENT
BEGIN:VEVENT
DTSTART;TZID=Europe/London:20180813T193000
DTEND;TZID=Europe/London:20180813T220000
DTSTAMP:20260423T121732
CREATED:20170927T210335Z
LAST-MODIFIED:20180812T180314Z
UID:4198-1534188600-1534197600@derbycanal.org.uk
SUMMARY:Society Committee Meeting
DESCRIPTION:Held the 2nd Monday of every Month\, the society committee meets to discuss progress made\, upcoming plans and any new opportunities! \nMembers are welcome to attend as observers\, please contact coordinator@derbycanal.org.uk for details.
URL:https://derbycanal.org.uk/event/society-committee-meeting-20180813/
LOCATION:Derbyshire
END:VEVENT
BEGIN:VEVENT
DTSTART;TZID=Europe/London:20180812T093000
DTEND;TZID=Europe/London:20180812T130000
DTSTAMP:20260423T121732
CREATED:20170816T175905Z
LAST-MODIFIED:20180804T212351Z
UID:4784-1534066200-1534078800@derbycanal.org.uk
SUMMARY:Working Party - Sandiacre
DESCRIPTION:Derby Canal Lock at Sandiacre  \nWork Description: \nThe work will include clearing vegetation and/or aiding in restoration of the old lock\, which will be excavated and cleared of spoil in the near future. \nHS&E requirements: \nSturdy Boots and gloves are recommended. \nGetting there: \nParking on and around Lock Lane\, and there a number of places that you can walk through to the canal line. \nMap coordinates –  52.917195\, -1.285172
URL:https://derbycanal.org.uk/event/working-party-sandiacre-20180812/
LOCATION:Sandiacre Lock\, 52.917083\, -1.285250
CATEGORIES:Working Party
END:VEVENT
BEGIN:VEVENT
DTSTART;TZID=Europe/London:20180801T193000
DTEND;TZID=Europe/London:20180801T213000
DTSTAMP:20260423T121732
CREATED:20171007T100549Z
LAST-MODIFIED:20180424T170427Z
UID:4487-1533151800-1533159000@derbycanal.org.uk
SUMMARY:Executive Group Meeting
DESCRIPTION:Executive Group Meeting\nThe Executive Group is drawn from co-opted members from the Trust Board and enthusiasts brought together to further the restoration. The members bring a range of expertise and experience to the table to enable the body to address the many varied issues that arise.
URL:https://derbycanal.org.uk/event/executive-group-meeting-20180801/
LOCATION:Spondon Village Hall\, Sitwell Street\, Derby\, Derbyshire\, DE21 7FG\, United Kingdom
CATEGORIES:Development Group
END:VEVENT
BEGIN:VEVENT
DTSTART;TZID=Europe/London:20180801T193000
DTEND;TZID=Europe/London:20180801T213000
DTSTAMP:20260423T121732
CREATED:20171007T095643Z
LAST-MODIFIED:20180712T194557Z
UID:4479-1533151800-1533159000@derbycanal.org.uk
SUMMARY:Trust Board Meeting
DESCRIPTION:Trust Board Meeting\nThe Trust Board meets quarterly to receive reports from officers\, the Trust Executive Group and the Society. \nThe Trust Board has delegated limited powers to the Executive Group to manage the day to day business of the Trust\, but all expenditure and commitments are approved by the Trust Board. \nMeetings are open to the public.
URL:https://derbycanal.org.uk/event/trust-board-meeting-20180711/
LOCATION:Chequers Inn\, 10 Main Street\, Breaston\, Derby\, Derbyshire\, DE72 3DX\, United Kingdom
CATEGORIES:Trustee Board
END:VEVENT
BEGIN:VEVENT
DTSTART;TZID=Europe/London:20180724T193000
DTEND;TZID=Europe/London:20180724T213000
DTSTAMP:20260423T121732
CREATED:20171006T185326Z
LAST-MODIFIED:20171006T214858Z
UID:3636-1532460600-1532467800@derbycanal.org.uk
SUMMARY:Society Social Meeting - Talk
DESCRIPTION:Rev. Peter Barham – ” Why Vicars Like Steam Trains”\nFurther details to be announced closer to the time. \n 
URL:https://derbycanal.org.uk/event/society-social-meeting-2-2-2-5-2/
LOCATION:Wilmot Arms\, Derby Road\, Borrowash\, Derby\, Derbyshire\, DE72 3HA\, United Kingdom
CATEGORIES:Trust Social
END:VEVENT
BEGIN:VEVENT
DTSTART;TZID=Europe/London:20180721T090000
DTEND;TZID=Europe/London:20180727T160000
DTSTAMP:20260423T121732
CREATED:20170816T175905Z
LAST-MODIFIED:20171216T161038Z
UID:4145-1532163600-1532707200@derbycanal.org.uk
SUMMARY:IWA WRG Borrowash Bottom Lock Restoration Week
DESCRIPTION:IWA WRG Borrowash Bottom Lock Restoration Week \nWork Description: \nThe IWA Waterways Recovery Group will be supporting the D&SC Trust for one week to restore Borrowash Bottom Lock\, from 21st July to 27th July 2018. \nFeel free to come along and support\, or to see the work in progress. \nHS&E requirements: \nSturdy Boots and gloves are recommended. \nGetting there: \nParking may be found on Mear Drive and there a number of places that you can walk through to the canal line. \nMap coordinates – 52.9019483\,-1.3761676
URL:https://derbycanal.org.uk/event/iwa_wrg_borrowash/
LOCATION:Borrowash Lock\, 52.9019483\,-1.3761676
CATEGORIES:Working Party
END:VEVENT
BEGIN:VEVENT
DTSTART;TZID=Europe/London:20180720T093000
DTEND;TZID=Europe/London:20180720T130000
DTSTAMP:20260423T121732
CREATED:20170819T155941Z
LAST-MODIFIED:20180509T222701Z
UID:4643-1532079000-1532091600@derbycanal.org.uk
SUMMARY:Working Fridays - Draycott
DESCRIPTION:Working Fridays – Draycott – Canal Cottages Restoration \nWork Description: \n  \nCome and lend a hand with our restoration of the Coop Cottages (formally called the ‘Canal Cottages’ in the 19th Century). \nCurrently\, we are performing site clearance\, but have also progressed onto the more complicated building works for the canal cottage restoration. \nTo Bring: A Smile\, refreshments\, stout shoes\, hand held cutters/rake\, other handheld tools that may be useful. \nHS&E requirements: \nFull PPE required – it is a working building site. \nHard Hats will be provided. Steel toe cap boots or equivalent is required. \nGetting there: \nHopwell Road end     Map coordinates:-    52.902025\, -1.344084
URL:https://derbycanal.org.uk/event/working-party-draycott-20180720/
LOCATION:Canal Cottages\, Draycott\, Hopwell Road\, Draycott\, Derbyshire\, United Kingdom
CATEGORIES:Working Party
END:VEVENT
BEGIN:VEVENT
DTSTART;TZID=Europe/London:20180713T093000
DTEND;TZID=Europe/London:20180713T130000
DTSTAMP:20260423T121732
CREATED:20170819T155941Z
LAST-MODIFIED:20180509T222627Z
UID:4644-1531474200-1531486800@derbycanal.org.uk
SUMMARY:Working Fridays - Draycott
DESCRIPTION:Working Fridays – Draycott – Canal Cottages Restoration \nWork Description: \n  \nCome and lend a hand with our restoration of the Coop Cottages (formally called the ‘Canal Cottages’ in the 19th Century). \nCurrently\, we are performing site clearance\, but have also progressed onto the more complicated building works for the canal cottage restoration. \nTo Bring: A Smile\, refreshments\, stout shoes\, hand held cutters/rake\, other handheld tools that may be useful. \nHS&E requirements: \nFull PPE required – it is a working building site. \nHard Hats will be provided. Steel toe cap boots or equivalent is required. \nGetting there: \nHopwell Road end     Map coordinates:-    52.902025\, -1.344084
URL:https://derbycanal.org.uk/event/working-party-draycott-20180713/
LOCATION:Canal Cottages\, Draycott\, Hopwell Road\, Draycott\, Derbyshire\, United Kingdom
CATEGORIES:Working Party
END:VEVENT
BEGIN:VEVENT
DTSTART;TZID=Europe/London:20180711T193000
DTEND;TZID=Europe/London:20180711T213000
DTSTAMP:20260423T121732
CREATED:20171007T100549Z
LAST-MODIFIED:20180424T170336Z
UID:4488-1531337400-1531344600@derbycanal.org.uk
SUMMARY:Executive Group Meeting
DESCRIPTION:Executive Group Meeting\nThe Executive Group is drawn from co-opted members from the Trust Board and enthusiasts brought together to further the restoration. The members bring a range of expertise and experience to the table to enable the body to address the many varied issues that arise.
URL:https://derbycanal.org.uk/event/executive-group-meeting-20180711/
LOCATION:Spondon Village Hall\, Sitwell Street\, Derby\, Derbyshire\, DE21 7FG\, United Kingdom
CATEGORIES:Development Group
END:VEVENT
BEGIN:VEVENT
DTSTART;TZID=Europe/London:20180709T193000
DTEND;TZID=Europe/London:20180709T220000
DTSTAMP:20260423T121732
CREATED:20170927T210335Z
LAST-MODIFIED:20171216T153659Z
UID:4193-1531164600-1531173600@derbycanal.org.uk
SUMMARY:Society Committee Meeting
DESCRIPTION:Held the 2nd Monday of every Month\, the society committee meets to discuss progress made\, upcoming plans and any new opportunities! \nMembers are welcome to attend as observers\, please contact coordinator@derbycanal.org.uk for details.
URL:https://derbycanal.org.uk/event/society-committee-meeting-20180709/
LOCATION:Derbyshire
END:VEVENT
BEGIN:VEVENT
DTSTART;TZID=Europe/London:20180708T093000
DTEND;TZID=Europe/London:20180708T140000
DTSTAMP:20260423T121732
CREATED:20170816T175905Z
LAST-MODIFIED:20180603T073842Z
UID:4668-1531042200-1531058400@derbycanal.org.uk
SUMMARY:Open Day - Borrowash Bottom Lock
DESCRIPTION:Open Day – Borrowash Bottom Lock \nWork Description: \nThe work will include clearing vegetation and/or aiding in restoration of the lock. This area has already been cleared a few years ago and the work is continuing to regrow trees along the towpath and clearing the canal channel from Station Road to Borrowash Bottom Lock. \nThe Open Day will be intended to show the local residents the work we have done\, as well as preparing them for the IWA/WRG visit at the end of July. \nHS&E requirements: \nSturdy Boots and gloves are recommended. \nGetting there: \nParking may be found on Mear Drive and there a number of places that you can walk through to the canal line. \nMap coordinates – 52.9019483\,-1.3761676
URL:https://derbycanal.org.uk/event/working-party-borrowash-20180715-2/
LOCATION:Borrowash Lock\, 52.9019483\,-1.3761676
CATEGORIES:Working Party
END:VEVENT
BEGIN:VEVENT
DTSTART;TZID=Europe/London:20180706T093000
DTEND;TZID=Europe/London:20180706T130000
DTSTAMP:20260423T121732
CREATED:20170819T155941Z
LAST-MODIFIED:20180509T222503Z
UID:4629-1530869400-1530882000@derbycanal.org.uk
SUMMARY:Working Fridays - Draycott
DESCRIPTION:Working Fridays – Draycott – Canal Cottages Restoration \nWork Description: \n  \nCome and lend a hand with our restoration of the Coop Cottages (formally called the ‘Canal Cottages’ in the 19th Century). \nCurrently\, we are performing site clearance\, but have also progressed onto the more complicated building works for the canal cottage restoration. \nTo Bring: A Smile\, refreshments\, stout shoes\, hand held cutters/rake\, other handheld tools that may be useful. \nHS&E requirements: \nFull PPE required – it is a working building site. \nHard Hats will be provided. Steel toe cap boots or equivalent is required. \nGetting there: \nHopwell Road end     Map coordinates:-    52.902025\, -1.344084
URL:https://derbycanal.org.uk/event/working-party-draycott-20180706/
LOCATION:Canal Cottages\, Draycott\, Hopwell Road\, Draycott\, Derbyshire\, United Kingdom
CATEGORIES:Working Party
END:VEVENT
BEGIN:VEVENT
DTSTART;TZID=Europe/London:20180629T093000
DTEND;TZID=Europe/London:20180629T130000
DTSTAMP:20260423T121732
CREATED:20170819T155941Z
LAST-MODIFIED:20180509T222416Z
UID:4630-1530264600-1530277200@derbycanal.org.uk
SUMMARY:Working Fridays - Draycott
DESCRIPTION:Working Fridays – Draycott – Canal Cottages Restoration \nWork Description: \n  \nCome and lend a hand with our restoration of the Coop Cottages (formally called the ‘Canal Cottages’ in the 19th Century). \nCurrently\, we are performing site clearance\, but have also progressed onto the more complicated building works for the canal cottage restoration. \nTo Bring: A Smile\, refreshments\, stout shoes\, hand held cutters/rake\, other handheld tools that may be useful. \nHS&E requirements: \nFull PPE required – it is a working building site. \nHard Hats will be provided. Steel toe cap boots or equivalent is required. \nGetting there: \nHopwell Road end     Map coordinates:-    52.902025\, -1.344084
URL:https://derbycanal.org.uk/event/working-party-draycott-20180629/
LOCATION:Canal Cottages\, Draycott\, Hopwell Road\, Draycott\, Derbyshire\, United Kingdom
CATEGORIES:Working Party
END:VEVENT
BEGIN:VEVENT
DTSTART;TZID=Europe/London:20180626T190000
DTEND;TZID=Europe/London:20180626T210000
DTSTAMP:20260423T121732
CREATED:20180530T182030Z
LAST-MODIFIED:20180530T185604Z
UID:4663-1530039600-1530046800@derbycanal.org.uk
SUMMARY:Society Social Meeting - The Riverboat Project - "Canal" Walk
DESCRIPTION:The Canal Society walk this year will be on Tuesday 26 June. It will start at 7.00pm from the main steps of the Council House\, on the corner of Corporation Street and Derwent Street in Derby.   \n It will be a circular walk along the River Derwent from the city centre to Darley Abbey\, up one bank and back down the other. \n The main theme of the walk will be the Riverboat Project\, the objective of which is to instigate boat trips from Derwent Bridge to Darley Abbey. Explanations of how the project is being developed and how it will work will be given at various points on route. \n There will be a few stops along the route to point out historical aspects of this part of Derby. \n The walk is 3.5 miles long and is mostly flat\, with few gradients. \n 
URL:https://derbycanal.org.uk/event/the-riverboat-project-canal-walk/
LOCATION:derby council house\, Derby Council House\, Corporation Street\, Derby\, Derbyshire\, DE1 2FS
CATEGORIES:Trust Social
END:VEVENT
BEGIN:VEVENT
DTSTART;TZID=Europe/London:20180623T130000
DTEND;TZID=Europe/London:20180623T170000
DTSTAMP:20260423T121732
CREATED:20180113T141620Z
LAST-MODIFIED:20180113T141620Z
UID:4291-1529758800-1529773200@derbycanal.org.uk
SUMMARY:Gin Festival\, Sandiacre
DESCRIPTION:Following on from last year’s success event\, Paul and Jacquie Birtles will once again be holding a Gin Festival at their home in Sandiacre. \nIf you are interested in a ticket\, please contact Jacquie at jackflapheaton@btinternet.com
URL:https://derbycanal.org.uk/event/gin-festival-sandiacre/
LOCATION:Derbyshire
CATEGORIES:External Events
END:VEVENT
BEGIN:VEVENT
DTSTART;TZID=Europe/London:20180622T093000
DTEND;TZID=Europe/London:20180622T130000
DTSTAMP:20260423T121732
CREATED:20170819T155941Z
LAST-MODIFIED:20180509T222335Z
UID:4631-1529659800-1529672400@derbycanal.org.uk
SUMMARY:Working Fridays - Draycott
DESCRIPTION:Working Fridays – Draycott – Canal Cottages Restoration \nWork Description: \n  \nCome and lend a hand with our restoration of the Coop Cottages (formally called the ‘Canal Cottages’ in the 19th Century). \nCurrently\, we are performing site clearance\, but have also progressed onto the more complicated building works for the canal cottage restoration. \nTo Bring: A Smile\, refreshments\, stout shoes\, hand held cutters/rake\, other handheld tools that may be useful. \nHS&E requirements: \nFull PPE required – it is a working building site. \nHard Hats will be provided. Steel toe cap boots or equivalent is required. \nGetting there: \nHopwell Road end     Map coordinates:-    52.902025\, -1.344084
URL:https://derbycanal.org.uk/event/working-party-draycott-20180622/
LOCATION:Canal Cottages\, Draycott\, Hopwell Road\, Draycott\, Derbyshire\, United Kingdom
CATEGORIES:Working Party
END:VEVENT
BEGIN:VEVENT
DTSTART;TZID=Europe/London:20180620T193000
DTEND;TZID=Europe/London:20180620T213000
DTSTAMP:20260423T121732
CREATED:20171007T100549Z
LAST-MODIFIED:20180424T170231Z
UID:4489-1529523000-1529530200@derbycanal.org.uk
SUMMARY:Executive Group Meeting
DESCRIPTION:Executive Group Meeting\nThe Executive Group is drawn from co-opted members from the Trust Board and enthusiasts brought together to further the restoration. The members bring a range of expertise and experience to the table to enable the body to address the many varied issues that arise.
URL:https://derbycanal.org.uk/event/executive-group-meeting-20180620/
LOCATION:Spondon Village Hall\, Sitwell Street\, Derby\, Derbyshire\, DE21 7FG\, United Kingdom
CATEGORIES:Development Group
END:VEVENT
BEGIN:VEVENT
DTSTART;VALUE=DATE:20180616
DTEND;VALUE=DATE:20180617
DTSTAMP:20260423T121732
CREATED:20180519T133520Z
LAST-MODIFIED:20180530T184820Z
UID:4651-1529107200-1529193599@derbycanal.org.uk
SUMMARY:Family Extravaganza at Elvaston Castle
DESCRIPTION:A joint event with the Rotary Clubs of Derby & Nottingham\, to celebrate the centenaries of both clubs. A fun day of traditional fairground rides\, classic car displays\, Dako Flying Angels\, Vintage plane flypast\, stalls\, competitions and displays. \nThe Derby & Sandiacre Canal Trust (D&SCT) will have a stall at the event\, so please come along and join us! \nFind out more at the Rotary Club of Nottingham Website
URL:https://derbycanal.org.uk/event/family-extravaganza-at-elvaston-castle/
LOCATION:Derbyshire
CATEGORIES:Other Events
END:VEVENT
BEGIN:VEVENT
DTSTART;TZID=Europe/London:20180615T093000
DTEND;TZID=Europe/London:20180615T130000
DTSTAMP:20260423T121732
CREATED:20170819T155941Z
LAST-MODIFIED:20180509T222305Z
UID:4632-1529055000-1529067600@derbycanal.org.uk
SUMMARY:Working Fridays - Draycott
DESCRIPTION:Working Fridays – Draycott – Canal Cottages Restoration \nWork Description: \n  \nCome and lend a hand with our restoration of the Coop Cottages (formally called the ‘Canal Cottages’ in the 19th Century). \nCurrently\, we are performing site clearance\, but have also progressed onto the more complicated building works for the canal cottage restoration. \nTo Bring: A Smile\, refreshments\, stout shoes\, hand held cutters/rake\, other handheld tools that may be useful. \nHS&E requirements: \nFull PPE required – it is a working building site. \nHard Hats will be provided. Steel toe cap boots or equivalent is required. \nGetting there: \nHopwell Road end     Map coordinates:-    52.902025\, -1.344084
URL:https://derbycanal.org.uk/event/working-party-draycott-20180615/
LOCATION:Canal Cottages\, Draycott\, Hopwell Road\, Draycott\, Derbyshire\, United Kingdom
CATEGORIES:Working Party
END:VEVENT
BEGIN:VEVENT
DTSTART;TZID=Europe/London:20180611T193000
DTEND;TZID=Europe/London:20180611T220000
DTSTAMP:20260423T121732
CREATED:20170927T210335Z
LAST-MODIFIED:20171216T153405Z
UID:4189-1528745400-1528754400@derbycanal.org.uk
SUMMARY:Society Committee Meeting
DESCRIPTION:Held the 2nd Monday of every Month\, the society committee meets to discuss progress made\, upcoming plans and any new opportunities! \nMembers are welcome to attend as observers\, please contact coordinator@derbycanal.org.uk for details.
URL:https://derbycanal.org.uk/event/society-committee-meeting-20180611/
LOCATION:Derbyshire
END:VEVENT
BEGIN:VEVENT
DTSTART;TZID=Europe/London:20180608T093000
DTEND;TZID=Europe/London:20180608T130000
DTSTAMP:20260423T121732
CREATED:20170819T155941Z
LAST-MODIFIED:20180509T222145Z
UID:4633-1528450200-1528462800@derbycanal.org.uk
SUMMARY:Working Fridays - Draycott
DESCRIPTION:Working Fridays – Draycott – Canal Cottages Restoration \nWork Description: \n  \nCome and lend a hand with our restoration of the Coop Cottages (formally called the ‘Canal Cottages’ in the 19th Century). \nCurrently\, we are performing site clearance\, but have also progressed onto the more complicated building works for the canal cottage restoration. \nTo Bring: A Smile\, refreshments\, stout shoes\, hand held cutters/rake\, other handheld tools that may be useful. \nHS&E requirements: \nFull PPE required – it is a working building site. \nHard Hats will be provided. Steel toe cap boots or equivalent is required. \nGetting there: \nHopwell Road end     Map coordinates:-    52.902025\, -1.344084
URL:https://derbycanal.org.uk/event/working-party-draycott-20180608/
LOCATION:Canal Cottages\, Draycott\, Hopwell Road\, Draycott\, Derbyshire\, United Kingdom
CATEGORIES:Working Party
END:VEVENT
BEGIN:VEVENT
DTSTART;TZID=Europe/London:20180601T093000
DTEND;TZID=Europe/London:20180601T130000
DTSTAMP:20260423T121732
CREATED:20170819T155941Z
LAST-MODIFIED:20180509T222047Z
UID:4634-1527845400-1527858000@derbycanal.org.uk
SUMMARY:Working Fridays - Draycott
DESCRIPTION:Working Fridays – Draycott – Canal Cottages Restoration \nWork Description: \n  \nCome and lend a hand with our restoration of the Coop Cottages (formally called the ‘Canal Cottages’ in the 19th Century). \nCurrently\, we are performing site clearance\, but have also progressed onto the more complicated building works for the canal cottage restoration. \nTo Bring: A Smile\, refreshments\, stout shoes\, hand held cutters/rake\, other handheld tools that may be useful. \nHS&E requirements: \nFull PPE required – it is a working building site. \nHard Hats will be provided. Steel toe cap boots or equivalent is required. \nGetting there: \nHopwell Road end     Map coordinates:-    52.902025\, -1.344084
URL:https://derbycanal.org.uk/event/working-party-draycott-20180601/
LOCATION:Canal Cottages\, Draycott\, Hopwell Road\, Draycott\, Derbyshire\, United Kingdom
CATEGORIES:Working Party
END:VEVENT
BEGIN:VEVENT
DTSTART;TZID=Europe/London:20180530T193000
DTEND;TZID=Europe/London:20180530T213000
DTSTAMP:20260423T121732
CREATED:20171007T100549Z
LAST-MODIFIED:20180424T170121Z
UID:4490-1527708600-1527715800@derbycanal.org.uk
SUMMARY:Executive Group Meeting
DESCRIPTION:Executive Group Meeting\nThe Executive Group is drawn from co-opted members from the Trust Board and enthusiasts brought together to further the restoration. The members bring a range of expertise and experience to the table to enable the body to address the many varied issues that arise.
URL:https://derbycanal.org.uk/event/executive-group-meeting-20180530/
LOCATION:Spondon Village Hall\, Sitwell Street\, Derby\, Derbyshire\, DE21 7FG\, United Kingdom
CATEGORIES:Development Group
END:VEVENT
BEGIN:VEVENT
DTSTART;VALUE=DATE:20180526
DTEND;VALUE=DATE:20180529
DTSTAMP:20260423T121732
CREATED:20180519T132519Z
LAST-MODIFIED:20180519T133114Z
UID:4649-1527292800-1527551999@derbycanal.org.uk
SUMMARY:ECP&DA 50th Anniversary Rally 2018
DESCRIPTION:The Erewash Canal Preservation and Deveopment Association (ECP&DA) will be holding a rally to celebrate the 50th anniversary of the formation of the ECP&DA and also the 45th anniversary of the reopening of the Great Northern Basin over Spring Bank Holiday weekend 26-28th May 2018. They hope that around 100 boats will be moored along the Erewash Canal and in the Great Northern Basin\, Langley Mill NG16 4AA \nThe Derby & Sandiacre Trust (D&SC) will have a Stall over the long weekend\, so any of our supporters are most welcome to come and enjoy the long weekend with us! \nFind out more on the ECP&DA website
URL:https://derbycanal.org.uk/event/ecpda-50th-anniversary-rally-2018/
LOCATION:Derbyshire
CATEGORIES:Other Events
END:VEVENT
BEGIN:VEVENT
DTSTART;TZID=Europe/London:20180525T093000
DTEND;TZID=Europe/London:20180525T130000
DTSTAMP:20260423T121732
CREATED:20170819T155941Z
LAST-MODIFIED:20180509T221919Z
UID:4628-1527240600-1527253200@derbycanal.org.uk
SUMMARY:Working Fridays - Draycott
DESCRIPTION:Working Fridays – Draycott – Canal Cottages Restoration \nWork Description: \n  \nCome and lend a hand with our restoration of the Coop Cottages (formally called the ‘Canal Cottages’ in the 19th Century). \nCurrently\, we are performing site clearance\, but have also progressed onto the more complicated building works for the canal cottage restoration. \nTo Bring: A Smile\, refreshments\, stout shoes\, hand held cutters/rake\, other handheld tools that may be useful. \nHS&E requirements: \nFull PPE required – it is a working building site. \nHard Hats will be provided. Steel toe cap boots or equivalent is required. \nGetting there: \nHopwell Road end     Map coordinates:-    52.902025\, -1.344084
URL:https://derbycanal.org.uk/event/working-party-draycott-20180525/
LOCATION:Canal Cottages\, Draycott\, Hopwell Road\, Draycott\, Derbyshire\, United Kingdom
CATEGORIES:Working Party
END:VEVENT
BEGIN:VEVENT
DTSTART;TZID=Europe/London:20180522T193000
DTEND;TZID=Europe/London:20180522T213000
DTSTAMP:20260423T121732
CREATED:20171006T185326Z
LAST-MODIFIED:20180313T170835Z
UID:3632-1527017400-1527024600@derbycanal.org.uk
SUMMARY:Society Social Meeting - Talk
DESCRIPTION:Mike Kelley – ” ‘Be Careful What you wish for’ – Cromford Canal & Trip Boat“\nFurther details to be announced closer to the time. \n 
URL:https://derbycanal.org.uk/event/society-social-meeting-2-2-2/
LOCATION:Wilmot Arms\, Derby Road\, Borrowash\, Derby\, Derbyshire\, DE72 3HA\, United Kingdom
CATEGORIES:Trust Social
END:VEVENT
BEGIN:VEVENT
DTSTART;TZID=Europe/London:20180520T093000
DTEND;TZID=Europe/London:20180520T130000
DTSTAMP:20260423T121732
CREATED:20170819T155941Z
LAST-MODIFIED:20180509T221954Z
UID:4524-1526808600-1526821200@derbycanal.org.uk
SUMMARY:Volunteer Open day at the Draycott Cottages
DESCRIPTION:Volunteer Open Day at the Draycott Cottages \nDescription: \nIf you’re interested getting involved with volunteering for the D&SC Trust\, or finding out more\, come to Hopwell Road to see our progress on restoring the Canal Cottages\, and find out how you can help! \nYou can: \n\nSee some of the history of the building\nLook at restoration plans\nLook around the site\nAsk our volunteers what it’s like to work on the such an interesting project!\n\nThere will also be accompanied access to the building itself – we’ll supply a hard hat if you come in sensible clothes and shoes. \nHS&E requirements: \nFull PPE required – it is a working building site. \nHard Hats will be provided. Steel toe cap boots or equivalent is required. \nGetting there: \nHopwell Road end     Map coordinates:-    52.902025\, -1.344084
URL:https://derbycanal.org.uk/event/open-day-draycott-20180520/
LOCATION:Canal Cottages\, Draycott\, Hopwell Road\, Draycott\, Derbyshire\, United Kingdom
CATEGORIES:Working Party
END:VEVENT
BEGIN:VEVENT
DTSTART;TZID=Europe/London:20180518T093000
DTEND;TZID=Europe/London:20180518T130000
DTSTAMP:20260423T121732
CREATED:20170819T155941Z
LAST-MODIFIED:20180413T120201Z
UID:4462-1526635800-1526648400@derbycanal.org.uk
SUMMARY:Working Fridays - Draycott
DESCRIPTION:Working Fridays – Draycott – Canal Cottages Restoration \nWork Description: \n  \nCome and lend a hand with our restoration of the Coop Cottages (formally called the ‘Canal Cottages’ in the 19th Century). \nCurrently\, we are performing site clearance\, but have also progressed onto the more complicated building works for the canal cottage restoration. \nTo Bring: A Smile\, refreshments\, stout shoes\, hand held cutters/rake\, other handheld tools that may be useful. \nHS&E requirements: \nFull PPE required – it is a working building site. \nHard Hats will be provided. Steel toe cap boots or equivalent is required. \nGetting there: \nHopwell Road end     Map coordinates:-    52.902025\, -1.344084
URL:https://derbycanal.org.uk/event/working-party-draycott-20180518/
LOCATION:Canal Cottages\, Draycott\, Hopwell Road\, Draycott\, Derbyshire\, United Kingdom
CATEGORIES:Working Party
END:VEVENT
BEGIN:VEVENT
DTSTART;TZID=Europe/London:20180514T193000
DTEND;TZID=Europe/London:20180514T220000
DTSTAMP:20260423T121732
CREATED:20170927T210335Z
LAST-MODIFIED:20171216T152853Z
UID:4181-1526326200-1526335200@derbycanal.org.uk
SUMMARY:Society Committee Meeting
DESCRIPTION:Held the 2nd Monday of every Month\, the society committee meets to discuss progress made\, upcoming plans and any new opportunities! \nMembers are welcome to attend as observers\, please contact coordinator@derbycanal.org.uk for details.
URL:https://derbycanal.org.uk/event/society-committee-meeting-20180514/
LOCATION:Derbyshire
END:VEVENT
END:VCALENDAR