BEGIN:VCALENDAR
VERSION:2.0
PRODID:-//Derby and Sandiacre Canal Trust - ECPv6.15.20//NONSGML v1.0//EN
CALSCALE:GREGORIAN
METHOD:PUBLISH
X-WR-CALNAME:Derby and Sandiacre Canal Trust
X-ORIGINAL-URL:https://derbycanal.org.uk
X-WR-CALDESC:Events for Derby and Sandiacre Canal Trust
REFRESH-INTERVAL;VALUE=DURATION:PT1H
X-Robots-Tag:noindex
X-PUBLISHED-TTL:PT1H
BEGIN:VTIMEZONE
TZID:Europe/London
BEGIN:DAYLIGHT
TZOFFSETFROM:+0000
TZOFFSETTO:+0100
TZNAME:BST
DTSTART:20200329T010000
END:DAYLIGHT
BEGIN:STANDARD
TZOFFSETFROM:+0100
TZOFFSETTO:+0000
TZNAME:GMT
DTSTART:20201025T010000
END:STANDARD
BEGIN:DAYLIGHT
TZOFFSETFROM:+0000
TZOFFSETTO:+0100
TZNAME:BST
DTSTART:20210328T010000
END:DAYLIGHT
BEGIN:STANDARD
TZOFFSETFROM:+0100
TZOFFSETTO:+0000
TZNAME:GMT
DTSTART:20211031T010000
END:STANDARD
BEGIN:DAYLIGHT
TZOFFSETFROM:+0000
TZOFFSETTO:+0100
TZNAME:BST
DTSTART:20220327T010000
END:DAYLIGHT
BEGIN:STANDARD
TZOFFSETFROM:+0100
TZOFFSETTO:+0000
TZNAME:GMT
DTSTART:20221030T010000
END:STANDARD
END:VTIMEZONE
BEGIN:VEVENT
DTSTART;TZID=Europe/London:20210811T190000
DTEND;TZID=Europe/London:20210811T213000
DTSTAMP:20260422T230834
CREATED:20210803T162024Z
LAST-MODIFIED:20210803T162048Z
UID:8270-1628708400-1628717400@derbycanal.org.uk
SUMMARY:DSCT AGM 2021
DESCRIPTION:To support the DSCT 2021 AGM on the 11th August 2021 at 7pm at the Royal Oak in Ockbrook; the associated papers for the meeting have been made accessible via the links below: \nAGM Notice 2021 \nAnnual Report & Financial Statements for the Year ending 31 March 2021 \nPlease remember if you wish to attend the Zoom meeting\, you will need to notify a.madge@yahoo.co.uk by email or call 01332 840502 providing an email address.
URL:https://derbycanal.org.uk/event/dsct-agm-2021/
LOCATION:Royal Oak\, Ockbrook\, Green Lane\, Ockbrook\, Derbyshire\, DE72 3SE\, United Kingdom
CATEGORIES:AGM
END:VEVENT
END:VCALENDAR