BEGIN:VCALENDAR
VERSION:2.0
PRODID:-//Derby and Sandiacre Canal Trust - ECPv6.15.20//NONSGML v1.0//EN
CALSCALE:GREGORIAN
METHOD:PUBLISH
X-ORIGINAL-URL:https://derbycanal.org.uk
X-WR-CALDESC:Events for Derby and Sandiacre Canal Trust
REFRESH-INTERVAL;VALUE=DURATION:PT1H
X-Robots-Tag:noindex
X-PUBLISHED-TTL:PT1H
BEGIN:VTIMEZONE
TZID:Europe/London
BEGIN:DAYLIGHT
TZOFFSETFROM:+0000
TZOFFSETTO:+0100
TZNAME:BST
DTSTART:20220327T010000
END:DAYLIGHT
BEGIN:STANDARD
TZOFFSETFROM:+0100
TZOFFSETTO:+0000
TZNAME:GMT
DTSTART:20221030T010000
END:STANDARD
BEGIN:DAYLIGHT
TZOFFSETFROM:+0000
TZOFFSETTO:+0100
TZNAME:BST
DTSTART:20230326T010000
END:DAYLIGHT
BEGIN:STANDARD
TZOFFSETFROM:+0100
TZOFFSETTO:+0000
TZNAME:GMT
DTSTART:20231029T010000
END:STANDARD
BEGIN:DAYLIGHT
TZOFFSETFROM:+0000
TZOFFSETTO:+0100
TZNAME:BST
DTSTART:20240331T010000
END:DAYLIGHT
BEGIN:STANDARD
TZOFFSETFROM:+0100
TZOFFSETTO:+0000
TZNAME:GMT
DTSTART:20241027T010000
END:STANDARD
END:VTIMEZONE
BEGIN:VEVENT
DTSTART;TZID=Europe/London:20230703T190000
DTEND;TZID=Europe/London:20230703T210000
DTSTAMP:20260421T182223
CREATED:20171007T095643Z
LAST-MODIFIED:20171007T095643Z
UID:10338-1688410800-1688418000@derbycanal.org.uk
SUMMARY:Trust Board of Directors Meeting
DESCRIPTION:Trust Board of Directors Meeting\nThe Board of Directors consists of Directors appointed by the Trust Members together with enthusiasts co-opted onto the Board in recognition of their special expertise or skills to further the restoration. \nThe group meets every month to take strategic decisions. The topics covered by the Group include all restoration projects (currently in Derby city\, Sandiacre\, Draycott and Borrowash)\, fundraising\, publicity and legal matters. The Board also undertakes financial oversight\, approves expenditure and controls the Trust.
URL:https://derbycanal.org.uk/event/trust-board-meeting-2022-2023-07-03/
LOCATION:zoom
CATEGORIES:Trust Board of Directors
END:VEVENT
END:VCALENDAR