BEGIN:VCALENDAR
VERSION:2.0
PRODID:-//Derby and Sandiacre Canal Trust - ECPv6.15.20//NONSGML v1.0//EN
CALSCALE:GREGORIAN
METHOD:PUBLISH
X-WR-CALNAME:Derby and Sandiacre Canal Trust
X-ORIGINAL-URL:https://derbycanal.org.uk
X-WR-CALDESC:Events for Derby and Sandiacre Canal Trust
REFRESH-INTERVAL;VALUE=DURATION:PT1H
X-Robots-Tag:noindex
X-PUBLISHED-TTL:PT1H
BEGIN:VTIMEZONE
TZID:Europe/London
BEGIN:DAYLIGHT
TZOFFSETFROM:+0000
TZOFFSETTO:+0100
TZNAME:BST
DTSTART:20220327T010000
END:DAYLIGHT
BEGIN:STANDARD
TZOFFSETFROM:+0100
TZOFFSETTO:+0000
TZNAME:GMT
DTSTART:20221030T010000
END:STANDARD
BEGIN:DAYLIGHT
TZOFFSETFROM:+0000
TZOFFSETTO:+0100
TZNAME:BST
DTSTART:20230326T010000
END:DAYLIGHT
BEGIN:STANDARD
TZOFFSETFROM:+0100
TZOFFSETTO:+0000
TZNAME:GMT
DTSTART:20231029T010000
END:STANDARD
BEGIN:DAYLIGHT
TZOFFSETFROM:+0000
TZOFFSETTO:+0100
TZNAME:BST
DTSTART:20240331T010000
END:DAYLIGHT
BEGIN:STANDARD
TZOFFSETFROM:+0100
TZOFFSETTO:+0000
TZNAME:GMT
DTSTART:20241027T010000
END:STANDARD
END:VTIMEZONE
BEGIN:VEVENT
DTSTART;TZID=Europe/London:20230109T190000
DTEND;TZID=Europe/London:20230109T210000
DTSTAMP:20260422T030822
CREATED:20230112T200517Z
LAST-MODIFIED:20230112T200517Z
UID:10299-1673290800-1673298000@derbycanal.org.uk
SUMMARY:Development Group meeting
DESCRIPTION:The Development Group is drawn from members from the Trust Board of Directors and members brought together to further the restoration. \nThe members bring a range of expertise and experience to the table to enable the body to address the many varied issues that arise. \nIf you would like to get involved please get in touch via info@derbycanal.org.uk.
URL:https://derbycanal.org.uk/event/development-group-meeting/
LOCATION:Derbyshire
CATEGORIES:Development Group
END:VEVENT
END:VCALENDAR